BEGIN:VCALENDAR
VERSION:2.0
PRODID:-//Hilarity Bites - ECPv6.8.2.1//NONSGML v1.0//EN
CALSCALE:GREGORIAN
METHOD:PUBLISH
X-ORIGINAL-URL:https://hilaritybites.co.uk
X-WR-CALDESC:Events for Hilarity Bites
REFRESH-INTERVAL;VALUE=DURATION:PT1H
X-Robots-Tag:noindex
X-PUBLISHED-TTL:PT1H
BEGIN:VTIMEZONE
TZID:UTC
BEGIN:STANDARD
TZOFFSETFROM:+0000
TZOFFSETTO:+0000
TZNAME:UTC
DTSTART:20210101T000000
END:STANDARD
END:VTIMEZONE
BEGIN:VEVENT
DTSTART;TZID=UTC:20250612T190000
DTEND;TZID=UTC:20250612T220000
DTSTAMP:20260425T201327
CREATED:20250411T192213Z
LAST-MODIFIED:20250411T192213Z
UID:25105-1749754800-1749765600@hilaritybites.co.uk
SUMMARY:Thirsk\, June 12th 2025
DESCRIPTION:Hilarity Bites Comedy Club feat. Chris Washington\, Jules O’Brian\, and host Chris Lumb\nShow details:\n \nChris Washington\nEdinburgh Comedy Award Best Newcomer Nominee - 2017\nAs seen on Mock The Week (BBC2)\, Live From The BBC (BBC1)\, House of Games (BBC2) and as heard on Have A Word Podcast\, and The Stand up Sketch Show. As seen as tour support for Kevin Bridges\, along with Milton Jones and Jason Manford. \nChris began performing stand up comedy in July 2012\, and after five years\, several hundred gigs for a host of reputable promoters up and down the country\, and a well received Edinburgh debut show\, he is fast becoming one of the most sought after new acts on the circuit. \nIn his early days Chris made the finals of several new act competitions\, and was spotted by Jason Manford\, who selected him to support him on several tour dates. With a cheeky Northern charm and hilarious tales it’s clear to see why Chris is flying up the comedy ladder. \n“A master of storytelling” - ★★★★ - The Times \n“a mainstream comedy star in the making” - ★★★★ - Chortle \n“if you like your comedy funny\, Washington’s your man” - ★★★★ - Joe.co.uk \n  \n \nJules O'Brian\nJules O’Brian first took to the stage in 2017\, at a charity night in Birmingham. A keen fan of Rik Mayall\, French and Saunders\, Victoria Wood\, and Joan Rivers\, as well as Katherine Ryan\, Tim Minchin\, Amy Schumer\, and Luisa Omielan\, Jules states her stand-up style is “Butter wouldn’t melt meets Is That All There Is?” (a reference to the dark song made famous by singer Peggy Lee). \nAn English Tutor in her day life\, Jules performed a sell-out ‘triple-header’ show at 2021’s Birmingham Comedy Festival\, and in the sam year was shortlisted for the Funny Women award. Jules performs at venues and festivals around the country\, telling anyone who will listen about ageing disgracefully\, body hang-ups\, parenting\, and dating. \nShe is TalkTalk’s official voice – chosen by none other than the legend Bernard Cribbins – and her silly writings feature frequently in magazines including Prima and MamaLife. This former teacher’s relaxed and chatty style\, crowd interaction and warmth\, all served with a sardonic wit\, make her a natural crowd pleaser. \n“Slick writing with a twinkle in her eye” - Scott Bennett \n  \n \nChris Lumb\nAs seen on Russell Howard's Good News\, Chris Lumb is no stranger to comedy. As the manager and performer of improv group "The Discount Comedy Checkout" he's played gigs with them for 12 years! In this time he’s developed an MC style which has fun with audiences and makes the night fully rounded. \nWith more strings to his comedy bow than a funny Robin Hood\, he's a comedy director having award winning films played at festivals such as Raindance. He also started a YouTube channel imaginatively titled Chris Lumb Comedy where he creates sketches and live show videos! As a keen impressionist Chris has also appeared on Russell Howard's Good News performing his favourite Star Wars impressions! \n“Chris is such a naturally gifted MC\, he reads the room perfect and pounces on any audience interaction with great wit and warmth. The audience never feel scared to get involved which is a credit to his style and unrehearsed approach.” - Shoecake Comedy \n“Chris Lumb is a warm and instantly likeable MC\, he quickly builds an instant rapport with his audience\, very funny \, the audience loved him” - Editor's Laughs \n“always a lively and quick-witted performer” - Buzz Comedy \n  \nNote: Line-ups are subject to change in extreme\, and unavoidable\, circumstances.\nShow may contain strong language and adult themes.\n  \n\nBuy tickets:\nTickets for this show can be bought online at www.ruralarts.org\, in person from The Old Courthouse\, or telephone 01845 526536.
URL:https://hilaritybites.co.uk/show/thirsk-june-12th-2025/
LOCATION:The Courthouse\, Thirsk\, The Old Courthouse\, Westgate\, Thirsk\, North Yorkshire\, YO7 1QS\, United Kingdom
CATEGORIES:Comedy,The Courthouse Thirsk
ATTACH;FMTTYPE=image/jpeg:https://hilaritybites.co.uk/wp-content/uploads/2018/12/Chris-Washington-2019.jpg
END:VEVENT
BEGIN:VEVENT
DTSTART;TZID=UTC:20241113T190000
DTEND;TZID=UTC:20241113T220000
DTSTAMP:20260425T201327
CREATED:20240623T211534Z
LAST-MODIFIED:20240623T211534Z
UID:24020-1731524400-1731535200@hilaritybites.co.uk
SUMMARY:Thirsk\, November 13th 2024
DESCRIPTION:Hilarity Bites Comedy Club feat. Bethany Black\, Fran Garrity\, and host John Scott\nShow details:\n \nBethany Black\nBethany Black has been a professional stand-up comedian since 2004. Her debut show 'Beth Becomes Her' detailed the story of her being transgender\, chronicling everything from her coming out through her transition and eventually falling in love. It was nominated for Best Debut at the Leicester Comedy Festival in 2008\, eventually losing out to Sarah Millican. \nOver the course of her career Beth has performed alongside some of the biggest names in comedy\, including Alan Carr\, Sarah Millican\, Tim Minchin and Rhys Darby. \nIn late 2017 / early 2018 Beth filmed the role of Pocahantas for No Offence. Prior to which\, in 2015 she was cast as Helen in Russell T. Davies multi channel shows Cucumber\, Banana\, and Tofu\, where she was the first trans actress to play a leading role. In late 2015\, Beth played 474 in Doctor Who. \n“Her journey to Channel Four\, ‘Doctor Who’ and steadily rising star status makes for hilarious if sometimes incredulous listening” - ✭✭✭✭✭ - Three Weeks \n“Honest\, to the point\, and very\, very funny” - ✭✭✭✭ - Arts Award Voice \n“The anecdotes are pitched perfectly... very funny” - Chortle \n  \n \nFran Garrity\nOne of Teesside’s finest comedic exports of recent years\, Fran Garrity kicked off his comedy career in 2015 after becoming a finalist in the City Comedian of the Year & FAF Breakthrough Act competitions. \nOften heard on the airwaves of both national and regional radio\, Fran has featured on such shows as BBC Radio 4’s New Comedy Awards and BBC Radio Newcastle’s features Jesting About and Grin up North\, whilst also presenting a weekend show on Zetland FM. \nIn 2017\, Fran was chosen for a support slot with Jason Manford on his Muddle Class Tour\, and later that year he debuted his solo show Secret Agent Fran and became a finalist in the Harrogate Comedian of the Year. \nHe had a sell-out run for Best In Class at the 2019 Edinburgh Fringe Festival\, and has had three sell-out solo shows with the shows Secret Agent Fran\, Faith Hope & Garrity\, and new show Fifty/50. \n“He smashed it” - Jason Manford \n“Fran is a real act to watch out for” - NARC \n“Fran Garrity has an easy and instant rapport with the audience and not only gets frequent laughs but also they are always big laughs” - Buzz Comedy \n  \n  \n \nJohn Scott\nMulti-award winning Scotsman John Scott took his first tentative steps into stand up in 1999 and just 3 months after his first appearance found himself doing his first run at the Edinburgh Festival. \nSince then\, John has appeared at a further five festivals\, and returned this year with a brand new show. In the meantime\, he picked up the Spike Milligan award for new talent in 2003 and then paired that up with the Take the Mic award at the 2010 Edinburgh Fringe - the richest prize in UK comedy. \nResident in Newcastle\, he now finds himself a favourite with audiences around the country as he headlines and MCs at all the major clubs around the UK and has gigged as far afield as the Middle East. \n“A genuinely gifted comedian” - Adelaide Rocks \n“Always plays a blinder. Never hits a dry patch. People were literally in tears of laughter” - The Observer \n“Confidently told hilarious tales of class-based woe\, nothing missed the mark in a superb set where every story was expertly crafted before being subverted with a killer punch line” - The Sun \n  \nNote: Line-ups are subject to change in extreme\, and unavoidable\, circumstances.\nShow may contain strong language and adult themes.\n  \n\nBuy tickets:\nTickets for this show can be bought online at www.ruralarts.org\, in person from The Old Courthouse\, or telephone 01845 526536.
URL:https://hilaritybites.co.uk/show/thirsk-november-13th-2024/
LOCATION:The Courthouse\, Thirsk\, The Old Courthouse\, Westgate\, Thirsk\, North Yorkshire\, YO7 1QS\, United Kingdom
CATEGORIES:Comedy,The Courthouse Thirsk
ATTACH;FMTTYPE=image/jpeg:https://hilaritybites.co.uk/wp-content/uploads/2019/06/Bethany-Black.jpg
END:VEVENT
BEGIN:VEVENT
DTSTART;TZID=UTC:20240306T190000
DTEND;TZID=UTC:20240306T220000
DTSTAMP:20260425T201327
CREATED:20231107T190246Z
LAST-MODIFIED:20231107T190246Z
UID:23164-1709751600-1709762400@hilaritybites.co.uk
SUMMARY:Thirsk\, March 6th 2024
DESCRIPTION:Hilarity Bites Comedy Club feat. Steve Day\, Ant Dewson\, and host Catherine Young\nShow details:\n \nSteve Day\nSteve Day describes himself as Britains only deaf comedian\, and if there are any others then he hasn't heard. Actually there are a couple of others who have started since he wrote that joke\, but it's only a joke after all. \nFor the past dozen years Steve has been performing to huge laughter around the country and abroad - well\, they tell him the laughter was huge to humour him\, he doesn't know either way. \nMarried with five children (a fact nothing to do with not being able to hear the word 'No') Steve has been described as 'warm and witty' by the Scotsman and has received many other rave reviews whilst performing shows at the Edinburgh Fringe Festival. Chortle gave him five stars in 2007 for Deafy's Island Discs\, a show The Sunday Times called 'Funny and Moving'. \n“Revelatory and very funny” - The Guardian \n“Warm\, funny\, frank and thought-provoking” - The Scotsman \n“Wonderful” - Bath Chronicle \n  \n \nAnt Dewson\nAnt Dewson performs at some of the top comedy clubs in the country\, from The Stand in Edinburgh to Up The Creek and Angel in London\, He’s shared the stage with some great comedians including Mickey Flanagan\, Lee Mack and Noel Fielding. He’s also shared the stage with some right shockers\, all of whom he is too polite to name here. \nAnt is a regular on BBC Radio London and was the co-host of Carpet Martin’s Comedy Market on Riverside Radio. He also writes comedy for shows on BBC Radio 4 and Sky One. \nAfter a recent Hilarity Bites show in Ripon\, a member of the audience messaged him to say\, “you even made my teenage daughter laugh which she hasn’t done since she hit puberty.” \n“Genuinely funny... very clever... filthy” - Three Weeks \n“Highlight of the night” -  Tom Robinson\, BBC 6Music  \n“A musical comedy feast” - ★★★★ - The Skinny \n  \n \nCatherine Young\nHilarity Bites New Act of the Year 2019\nWinner of the Hilarity Bites New Act of the Year 2019\, Catherine is quickly making a name for herself as one of the most exciting new acts to come out of the North-East in recent years. \nCatherine occasionally absconds from Middlesbrough and the general misery of life\, by running round the UK comedy circuit looking for anyone who will listen to her. \nFrom North East and Irish decent\, Catherine loves drinking\, dancing and telling lies. Her comedy is light-hearted\, full of mischievous stories and a warm and friendly humour that provides a short break from the stresses that life deals to us all. \n  \n  \nNote: Line-ups are subject to change in extreme\, and unavoidable\, circumstances.\nShow may contain strong language and adult themes.\n  \n\nBuy tickets:\nTickets for this show can be bought online at www.ruralarts.org\, in person from The Old Courthouse\, or telephone 01845 526536.
URL:https://hilaritybites.co.uk/show/thirsk-march-6th-2024/
LOCATION:The Courthouse\, Thirsk\, The Old Courthouse\, Westgate\, Thirsk\, North Yorkshire\, YO7 1QS\, United Kingdom
CATEGORIES:Comedy,The Courthouse Thirsk
ATTACH;FMTTYPE=image/jpeg:https://hilaritybites.co.uk/wp-content/uploads/2018/12/Steve-Day-2018.jpg
END:VEVENT
BEGIN:VEVENT
DTSTART;TZID=UTC:20231115T190000
DTEND;TZID=UTC:20231115T220000
DTSTAMP:20260425T201327
CREATED:20230601T163308Z
LAST-MODIFIED:20230601T163308Z
UID:22660-1700074800-1700085600@hilaritybites.co.uk
SUMMARY:Thirsk\, November 15th 2023
DESCRIPTION:Hilarity Bites Comedy Club feat. Noel James\, Sam Serrano\, and host Pete Otway\nShow details:\n \nNoel James\nBritain's Got Talent 2018 semi-finalist\nNoel James has been making people laugh for over 25 years and much of stand-up's royalty has cited him as being a big influence: from Tim Vine and Milton Jones\, to Frank Skinner and Dylan Moran. \nNoel is surreal\, bizarre\, absurd\, intelligent\, and yet\, somehow strangely attractive. He's an accessible act who generally goes down well anywhere; his best lines would grace any comedian's repertoire\, whilst the worst would shame a cracker factory. Highly original and just plain ridiculous. \n“Liberates the lunatic side to our personalities - brilliantly!” - Time Out \n“Stands out like a droll giant in a comedy land of trite dwarfs” - The Independent \n“Huge fan!” - The Sunday Times \n  \n \nSam Serrano\nSam Serrano is a gender fluid\, dyspraxic comedian who has been taking the circuit by storm. A regular in clubs across the UK\, Sam’s unique trademark style is dark and self-deprecating in equal measure and has seen them become a favourite with bookers. \nIt has also seen Sam provide tour support for Brennan Reece and perform an incredible five solo shows at Hot Water Comedy Club\, Nottingham Comedy Festival\, and Leicester Comedy Festival. \nIn a short space of time since starting out\, Sam was awarded second place in the prestigious Great Yorkshire Fringe Comedian of the Year Competition in 2018\, followed by runner-up in the LGBT Comedian of the Year 2019\, and was a finalist in the Leicester Square New Comedian of the Year in the same year. \n“killer lines... a lot going for them\, expect to see more” - Chortle \n“puts the X in X Factor” - York Press \n“Laugh-out-loud funny” - Yorkshire Post \n  \n \nPete Otway\nSince starting to perform in 2010\, Pete Otway has quickly gained momentum\, establishing himself as an extremely strong new act. As comfortable and confident as an MC as he is an act\, he is booked regularly to do both\, and was a recent finalist in the 2012 BBC New Comedy Awards. \nWith an affable and conversational style\, mixed with an energetic stage manner and original writing\, Pete is quickly making a name for himself on the UK circuit\, and is certainly one to watch. \n “Devastatingly funny” - Chortle \n“Amiable\, cheeky classic stand-up” - Liverpool Echo \n“An amazing comedy talent\, and we are making sure we are making sure we follow his every move in his ever rising career” - Crispy Comedy Club \n  \nNote: Line-ups are subject to change in extreme\, and unavoidable\, circumstances.\nShow may contain strong language and adult themes.\n  \n\nBuy tickets:\nTickets for this show can be bought online at www.ruralarts.org\, in person from The Old Courthouse\, or telephone 01845 526536.
URL:https://hilaritybites.co.uk/show/thirsk-november-15th-2023/
LOCATION:The Courthouse\, Thirsk\, The Old Courthouse\, Westgate\, Thirsk\, North Yorkshire\, YO7 1QS\, United Kingdom
CATEGORIES:Comedy,The Courthouse Thirsk
ATTACH;FMTTYPE=image/jpeg:https://hilaritybites.co.uk/wp-content/uploads/2019/09/Noel-James-2017.jpg
END:VEVENT
BEGIN:VEVENT
DTSTART;TZID=UTC:20230301T190000
DTEND;TZID=UTC:20230301T220000
DTSTAMP:20260425T201327
CREATED:20221105T173122Z
LAST-MODIFIED:20230226T130502Z
UID:21754-1677697200-1677708000@hilaritybites.co.uk
SUMMARY:Thirsk\, March 1st 2023
DESCRIPTION:Hilarity Bites Comedy Club feat. Steve Gribbin\, Peter Brush\, and host Karen Bayley\nShow details:\n \nSteve Gribbin\nSteve Gribbin is a diminutive guitar-wielding satirist from Liverpool whose scabrous comedy songs and off the wall observations have made him one of the firm favourites of the comedy circuit. \nSteve’s original comedy songs combine razor sharp lyrics with tunes that put their foot in the door of your mind and refuse to leave. Firmly based in rock ‘n’ roll and refusing to pull no punches\, these are not the ‘oh so witty’ ditties of penguin-suited plink plonk piano playing posh gobs. They are that rarity – comedy songs which are actually funny. \nFor nine years Steve was the smaller one in the dynamic comedy duo Skint Video\, stalwart’s of the Edinburgh Festival\, appearing on countless television programmes such as Saturday Live\, radio such as The Mary Whitehouse Experience\, and their own show in 1992/3 Songlines (BBC Radio 1). Skint Video went their different ways in 1993\, since then Steve has been storming across the UK and Ireland as a solo artiste. \n“A comic animated by proper passion... a trenchant treat” - The Guardian \n“You can count the number of truly imaginative comic singers currently on the circuit on the fingers of one hand. One of this select band is Steve Gribbin” - Time Out \n“Satirical songs are hard to pull off successfully\, but if anyone can do it\, Steve Gribbin can. In fact\, he pulls it off with real aplomb” - The Independent \n  \nReplacing Sam Serrano:\n \nPeter Brush\nA highly distinctive performer and deft writer of finely crafted jokes\, Peter Brush unassumingly takes the stage with his slight bespectacled frame and scruffy hair\, before consummately conquering it with an arsenal of razor sharp quirky one-liners and peerlessly original routines\, all delivered in an amusingly awkward fashion. \nPeter performs at all the major clubs across the UK\, as well as having done many of it’s biggest festivals\, he has also played shows in Switzerland\, Norway and Hungary. Formerly a BBC New Comedy Award finalist\, he has written for several BBC Radio 4 shows and was the support act for Alexei Sayle’s most recent tour. Other acts he has supported on tour include Jonathan Pie\, Jason Manford\, Fern Brady\, Arthur Smith and Paul Sinha. \n“compellingly hilarious... first-class gag writing... an original and achingly funny voice” - ★★★★½ - Chortle \n“I love Peter Brush\, what a comic” - Jason Manford \n“unique observations and connections that stand-ups crave” - The Guardian \n“He’s a great comic” - BBC Radio 4 Saturday Review \n  \n \nKaren Bayley\nKaren began her comedy career back in 2000 and since then has gone from strength to strength. Her bold\, no nonsense attitude strikes a perfect pitch with men and women alike\, and she is equally at home compering or performing sets. \nKaren is also resident compere of her own clubs in Sutton Coldfield and Solihull\, with her claim to fame to date being that she was the first woman (in its history) to win the King Gong show at The Comedy Store. \nKaren has also worked in TV and radio\, including appearances on the BBC New Comedy Awards (BBC3)\,  The Last Word (ITV1)\,  Sex on the Job (Sky 1)\, and  100 Greatest Cartoons (Channel 4). \n“Laugh out loud jokes and superb audience control” - Chortle \n“Likeable headstrong persona- packing a considerable performing punch” - The List \n“She blew my socks off” - BBC \n  \nNote: Line-ups are subject to change in extreme\, and unavoidable\, circumstances.\nShow may contain strong language and adult themes.\n  \n\nBuy tickets:\nTickets for this show can be bought online at www.ruralarts.org\, in person from The Old Courthouse\, or telephone 01845 526536.
URL:https://hilaritybites.co.uk/show/thirsk-march-1st-2023/
LOCATION:The Courthouse\, Thirsk\, The Old Courthouse\, Westgate\, Thirsk\, North Yorkshire\, YO7 1QS\, United Kingdom
CATEGORIES:Comedy,The Courthouse Thirsk
ATTACH;FMTTYPE=image/jpeg:https://hilaritybites.co.uk/wp-content/uploads/2022/10/Steve-Gribbin-2022.jpg
END:VEVENT
BEGIN:VEVENT
DTSTART;TZID=UTC:20220713T190000
DTEND;TZID=UTC:20220713T220000
DTSTAMP:20260425T201327
CREATED:20181211T212210Z
LAST-MODIFIED:20220629T104448Z
UID:20583-1657738800-1657749600@hilaritybites.co.uk
SUMMARY:Thirsk\, July 13th 2022
DESCRIPTION:Hilarity Bites Comedy Club feat. Scott Bennett\, Kieran Lawless\, and host Sully O’Sullivan\nShow details:\n \nScott Bennett\nAs seen on Live at the ApolloBest show Nominee Leicester Comedy Festival 2019Amused Moose Edinburgh Comedy Award Nominee\nStar of lock-down hit Stand-Up From The Shed\, Scott Bennett is a multi-award winning act\, and one of the most popular headliners currently performing in the UK. Delivering wry observations on the absurdity of modern living\, his sharply-written routines\, drawn from real-life experiences have been delighting audiences across the country. \nIn 2018 and 2019 Scott was tipped as one of the "ones to watch" by respected industry online magazine\, Chortle\, following a series of highly rated solo shows\, award nominations\, and a high-profile tour support slot with TV's Rob Brydon. \nAs well as working as a succesful stand up comic in his own right\, Scott has written for high profile acts including Jason Manford\, is a writer for The Chris Ramsey show for Comedy Central and has written for the News Quiz on BBC Radio 4. \nScott has also appeared on BBC's Live a the Apollo\, Radio 4’s The News Quiz\, The Now Show\, The Likely Dads and Elephant in the Room with Sarah Millican\, The Summer Festival with Daliso Chaponda\, The Comedy Club with Arthur Smith\, and Knock Knock with Helen Lederer. He also featured on the BBC One show\, Live from The Edinburgh Fringe. \n“Fabulous turns of phrase and pungent expressions\, superb character creations” - Chortle \n“Great material\, great delivery\, a very funny man” - Rob Brydon \n“Brilliantly funny\, a joy to watch” - Chris Ramsey \n  \n \nKieran Lawless\nKieran Lawless is an Irish comedian now based in Manchester. He has worked in comedy clubs across Ireland\, the UK & Europe including supporting Patrick Kielty in Dublin's Olympia Theatre. \nWell respected in his native Ireland\, his television credits include; New Comedy Awards (RTE)\, The Takeover (RTE)\, and RED TV (RTE). \nKieran has also won numerous New Comedian awards including The Nothin Butt Funny Comedy award. \n“exceedingly entertaining\, highly energised and side splittingly funny” - NorthWestEnd.co.uk \n  \n  \n \nSully O'Sullivan\nSully O'Sullivan has been declared a highlight of the New Zealand International Comedy Festival by The NZ Herald\, a highlight of the Glasgow International Comedy Festival by The Scotsman\, featured on Australian TV’s The Comedy Channel\, hosted a sellout standup tour of Croatia\, won Canada’s annual Improvaganza Tournament\, and completed 2 UK national tours supporting cult Heavy Metal Comic Steve Hughes. \nFirst stepping onto a standup stage in June 1998\, Sully's talent gained instant recognition as he won his first national standup award less than 12 months later. 9 years on he’s featured in four seasons of New Zealand’s award winning TV standup showcase 'Pulp Comedy'\, been nominated for the NZ Comedy Industry's supreme award by the NZ Comedy Trust\, and nominated by his fellow performers for the title of NZ's Best MC. \n“Amazing” - NME \n“A blast of hilarity” - Manchester Evening News \n“A wicked sense of humour” - BBC \n  \nNote: Line-ups are subject to change in extreme\, and unavoidable\, circumstances.\nShow may contain strong language and adult themes.\n  \n\nBuy tickets:\nTickets for this show can be bought online at www.ruralarts.org\, in person from The Old Courthouse\, or telephone 01845 526536.
URL:https://hilaritybites.co.uk/show/thirsk-july-13th-2022/
LOCATION:The Courthouse\, Thirsk\, The Old Courthouse\, Westgate\, Thirsk\, North Yorkshire\, YO7 1QS\, United Kingdom
CATEGORIES:Comedy,The Courthouse Thirsk
ATTACH;FMTTYPE=image/jpeg:https://hilaritybites.co.uk/wp-content/uploads/2019/05/Scott-Bennett-2019.jpg
END:VEVENT
BEGIN:VEVENT
DTSTART;TZID=UTC:20211110T190000
DTEND;TZID=UTC:20211110T220000
DTSTAMP:20260425T201327
CREATED:20181211T212210Z
LAST-MODIFIED:20210922T160244Z
UID:20249-1636570800-1636581600@hilaritybites.co.uk
SUMMARY:Thirsk\, November 10th 2021
DESCRIPTION:Hilarity Bites Comedy Club feat. Martin Mor\, Kate McCabe\, and host Rob Mulholland\nShow details:\n \nMartin Mor\nMartin comes from Northern Ireland\, and after a successful career as a circus performer\, he turned his attention on the unsuspecting comedy circuit. With over 25 years experience as a professional performer\, Martin has established himself as one of the UK’s most popular and in-demand comedians. Combining startlingly original material with bold\, energetic improvisation\, his love of working the audience\, and an inability to remember his script\, mean that every show is a unique interactive live event\, and no two shows are ever the same.  \nVery much the comedian’s comedian\, Martin has been the support act of choice for; Frankie Boyle\, Jack Dee\, Lee Evans\, Jasper Carrot\, Patrick Kielty\, Johnny Vegas\, Steve Coogan\, and once Tina Turner. However\, in his own right has performed successfully at events of all description; from the Hammersmith Apollo to a show for the inmates of an Italian prison\, from comedy clubs to performing before members of the British Royal Family.  \nWith numerous appearances on radio and television\, Martin has worked at all levels of the industry; being a warm up man\, devising and performing his own television show\, and writing jokes for some of the biggest names in British comedy - and his photograph is even featured on the popular board game Trivial Pursuits!  \n“Martin is the act that has influenced me the most\, the UK comedy circuit would not be the same without him” - Frankie Boyle \n“Extremely funny” - Peter Kay \n“This guy's great” - George Best \n“He wore us out with laughter... Irrepressible exuberance” - The Scotsman \n  \n \nKate McCabe\nAmerican comic Kate McCabe moved to Manchester from the US over a decade ago with her Scottish partner - putting the wheels in motion shortly after George W Bush was elected for a second term as President! \nGrowing up in Erie\, Pennsylvania\, Kate studied theatre arts at New York University\, and following her passion for stand-up comedy\, Kate continued to make us laugh\, perforning throughout New York\, Los Angeles\, Philadelphia\, New Jersey and the UK. \n  When not performing stand-up\, she also writes and performs with Manchester-based sketch group The Tourists\, hosts her own alternative comedy night\, Sidekick Comedy\, in Manchester's Gay Village\, and also performs improv with ComedySportz - the Manchester-based comedy troupe who battle it out for the biggest laughs. \n“Delivers strong material with aplomb” - Three Weeks \n“McCabe stormed the venue... a thorough delight to watch” - Arts in Leicester \n“McCabe’s material is consistently good\, often making the room spin with laughter” - The Student Journal \n  \n \nRob Mulholland\nSix foot seven of pure funny\, Rob Mulholland is a bombastic\, mischievous gag-slinging rascal with a heart full of humour and gob full of shite. An established\, bullet-proof comedy pro forged in the fires of the Nothern comedy circuit who now travels the world packing big belly laughs. A regular at all the biggest comedy clubs in the UK; whether going for the kill with his playful filth-mongering and hilarious\, furious tirades against minor annoyances or holding a night together with his genial but sharp hosting skills\, he can adapt to any kind of crowd and event. \nRob is the co-host of hit podcast “Dead Men Talking”\, has written for Mock The Week\, and was seen on BBC iPlayer’s "Comedians’ Rap Battles". Rob has also won multiple awards\, including being the English Comedian of the Year joint winner\, Beat The Frog World Series Winner\, Hilarity Bites New Act of the Year Winner\, Funhouse Comedy Champion of Champions\, and SA Search For A Star Winner. His hit Edinburgh Festival show 'Popular Comedian' can be streamed now on Amazon Prime. \n“Very\, very tall and equally as talented” - Time Out \n“Great delivery and a confident swagger... A riot” - Lancashire Evening Telegraph \n“Perfect delivery... had the audience bursting into spontaneous applause” - York Press \n  \nNote: Line-ups are subject to change in extreme\, and unavoidable\, circumstances.\nShow may contain strong language and adult themes.\n  \n\nBuy tickets:\nTickets for this show can be bought online at www.ruralarts.org\, in person from The Old Courthouse\, or telephone 01845 526536.
URL:https://hilaritybites.co.uk/show/thirsk-november-10th-2021/
LOCATION:The Courthouse\, Thirsk\, The Old Courthouse\, Westgate\, Thirsk\, North Yorkshire\, YO7 1QS\, United Kingdom
CATEGORIES:Comedy,The Courthouse Thirsk
ATTACH;FMTTYPE=image/jpeg:https://hilaritybites.co.uk/wp-content/uploads/2019/05/Martin-Mor-2018.jpg
END:VEVENT
END:VCALENDAR