BEGIN:VCALENDAR
VERSION:2.0
PRODID:-//Hilarity Bites - ECPv6.8.2.1//NONSGML v1.0//EN
CALSCALE:GREGORIAN
METHOD:PUBLISH
X-WR-CALNAME:Hilarity Bites
X-ORIGINAL-URL:https://hilaritybites.co.uk
X-WR-CALDESC:Events for Hilarity Bites
REFRESH-INTERVAL;VALUE=DURATION:PT1H
X-Robots-Tag:noindex
X-PUBLISHED-TTL:PT1H
BEGIN:VTIMEZONE
TZID:UTC
BEGIN:STANDARD
TZOFFSETFROM:+0000
TZOFFSETTO:+0000
TZNAME:UTC
DTSTART:20220101T000000
END:STANDARD
END:VTIMEZONE
BEGIN:VEVENT
DTSTART;TZID=UTC:20221002T190000
DTEND;TZID=UTC:20221002T220000
DTSTAMP:20260424T051110
CREATED:20181211T212210Z
LAST-MODIFIED:20211011T114223Z
UID:20346-1664737200-1664748000@hilaritybites.co.uk
SUMMARY:Darlington\, October 2nd 2022
DESCRIPTION:Hilarity Bites presents Al Murray: Gig For Victory\nShow details:\n \nAl Murray: Gig For Victory\nBrand new show. \nAs the dust settles and we emerge blinking into the dawn of a new year\, the men and women of this great country will need answers. Answers that they know they need\, answers to questions they never knew existed. \nAnd when that moment comes\, who better to show the way\, to provide those answers\, than the people’s man of the people\, the Pub Landlord? Steeped in the deep and ancient barroom wisdom of countless lock ins\, the Pub Landlord is there to show the way. Wherever you are\, he will – within sensible travel limits and theatre booking policy – come\, offering people thirsty for common sense a full pint of the good stuff. \n  \n“Stand up gold” – The Guardian \n“A supremely polished performer” – ★★★★★ – Mail on Sunday \n“Wickedly witty stuff” – ★★★★ – The Telegraph \n  \nPlease note this performance contains strong language and adult themes. \nAge restriction: “14+\, but they’re your kids\, so its up to you” – The Pub Landlord \n\nBuy tickets:\nTickets for this show can be bought online at www.darlingtonhippodrome.co.uk\, in person from the Darlington Hippodrome box office in the Cornmill Centre\, or telephone 01325 405405. \nTickets for this show are £27.50 (+ £2 per seat restoration levy) each\, with doors opening at 7pm and the show starting at 7:30pm.
URL:https://hilaritybites.co.uk/show/darlington-october-2nd-2022/
LOCATION:Darlington Hippodrome\, Parkgate\, Darlington\, DL1 1RR\, United Kingdom
CATEGORIES:Comedy,Darlington Hippodrome
ATTACH;FMTTYPE=image/jpeg:https://hilaritybites.co.uk/wp-content/uploads/2018/12/Al-Murray-2022.jpg
END:VEVENT
END:VCALENDAR