BEGIN:VCALENDAR
VERSION:2.0
PRODID:-//Hilarity Bites - ECPv6.8.2.1//NONSGML v1.0//EN
CALSCALE:GREGORIAN
METHOD:PUBLISH
X-ORIGINAL-URL:https://hilaritybites.co.uk
X-WR-CALDESC:Events for Hilarity Bites
REFRESH-INTERVAL;VALUE=DURATION:PT1H
X-Robots-Tag:noindex
X-PUBLISHED-TTL:PT1H
BEGIN:VTIMEZONE
TZID:UTC
BEGIN:STANDARD
TZOFFSETFROM:+0000
TZOFFSETTO:+0000
TZNAME:UTC
DTSTART:20240101T000000
END:STANDARD
END:VTIMEZONE
BEGIN:VEVENT
DTSTART;TZID=UTC:20240427T190000
DTEND;TZID=UTC:20240427T220000
DTSTAMP:20260423T105254
CREATED:20230524T202958Z
LAST-MODIFIED:20230529T175209Z
UID:22643-1714244400-1714255200@hilaritybites.co.uk
SUMMARY:Darlington\, April 27th 2024
DESCRIPTION:Hilarity Bites presents Al Murray: Guv Island\nShow details:\n \nAl Murray: Guv Island\nBrand new show. \n“Country\, the UK\, lost its way\, seeks life partner/mentor/inspiration. Good sense of humour essential. No timewasters\, tedious show-offs or offend-o-trons need apply. HR free zone.” \nStanding up so you don’t have to take it lying down anymore\, the Pub Landlord is back to make sense of the questions you probably already had the answers to. \nYou know what they say: There’s no school like the old school\, with the dodgy overflowing toilets. \n  \n“A supremely polished performer” – ★★★★★ – Mail on Sunday \n“Wickedly witty stuff” – ★★★★ – The Telegraph \n“Stand up gold” – The Guardian \n  \nPlease note this performance contains strong language and adult themes. \n\nBuy tickets:\nTickets for this show can be bought online at www.darlingtonhippodrome.co.uk\, in person from the Darlington Hippodrome box office in the Cornmill Centre\, or telephone 01325 405405. \nTickets for this show are £30 (+ £2 per seat restoration levy) each\, with doors opening at 7pm and the show starting at 7:30pm.
URL:https://hilaritybites.co.uk/show/darlington-april-27th-2024/
LOCATION:Darlington Hippodrome\, Parkgate\, Darlington\, DL1 1RR\, United Kingdom
CATEGORIES:Comedy,Darlington Hippodrome
ATTACH;FMTTYPE=image/jpeg:https://hilaritybites.co.uk/wp-content/uploads/2023/05/Al-Murray-2024.jpg
END:VEVENT
END:VCALENDAR