BEGIN:VCALENDAR
VERSION:2.0
PRODID:-//Hilarity Bites - ECPv6.8.2.1//NONSGML v1.0//EN
CALSCALE:GREGORIAN
METHOD:PUBLISH
X-WR-CALNAME:Hilarity Bites
X-ORIGINAL-URL:https://hilaritybites.co.uk
X-WR-CALDESC:Events for Hilarity Bites
REFRESH-INTERVAL;VALUE=DURATION:PT1H
X-Robots-Tag:noindex
X-PUBLISHED-TTL:PT1H
BEGIN:VTIMEZONE
TZID:UTC
BEGIN:STANDARD
TZOFFSETFROM:+0000
TZOFFSETTO:+0000
TZNAME:UTC
DTSTART:20260101T000000
END:STANDARD
END:VTIMEZONE
BEGIN:VEVENT
DTSTART;TZID=UTC:20260123T193000
DTEND;TZID=UTC:20260123T223000
DTSTAMP:20260426T000836
CREATED:20251223T120938Z
LAST-MODIFIED:20260106T201956Z
UID:25830-1769196600-1769207400@hilaritybites.co.uk
SUMMARY:Bishop Auckland\, January 23rd 2026
DESCRIPTION:Hilarity Bites Comedy Club feat. Micky P. Kerr\, Philip Simon\, and host Will Duggan\nShow details:\n \nMicky P. Kerr\nBritain's Got Talent finalist 2018\nLeeds-based comedian and social commentator\, Micky P Kerr is a breath of fresh air on the live comedy circuit. Fusing together music\, spoken word and comedy\, with his tongue often planted firmly in his cheek\, Kerr has been described as the bastard spawn of John Cooper Clarke. \nAlready a familiar face on the live music circuit\, Micky turned his hand to stand-up comedy in 2013 and is rapidly becoming one to watch\, proving to be a massive hit with audiences and bookers alike. \nIn the short time he has been appearing on the comedy circuit he has already reached the semi-finals of both the So You Think You’re Funny and the BBC New Act competitions. He was also recently crowned Harrogate Comedy Festival New Comedian of the Year. \n2015 saw Micky record a live set for BBC Radio 1\, working on a new sitcom about his previous life as a primary school teacher and recording his latest album of music and comedy\, entitled Kerr in the Kerrmunity. In 2017 Micky performed his debut hour at the Edinburgh Fringe. \n“Kerr’s ability to get laughs out of them marks him out as perfect Radio 4 material” - Three Weeks \n“Unlike some acts who are not funny then are funny\, you are always funny” - Simon Cowell \n“Leeds-based Kerr’s assured and relaxed mix of one-liners\, poetry and songs certainly impressed” - Harrogate Advertiser \n  \n \nPhilip Simon\nPegasus Comedy Best Compere 2023 winnerUK Pun Off at the 2023 Edinburgh Fringe winnerJewish Comedian of the Year 2015Lastminute Comedy / Kill for a Seat Comedian of the Year 2015\nProfessional comedian Philip Simon has been entertaining audiences around the world for over two decades. During lockdown he created the hit children’s comedy show School's Out Comedy Club. He has been seen/heard on BBC\, ITV\, Channel 4 and BBC Radio 4 as part of the BBC New Comedy Award. He has written for Mock the Week\, worked on TV shows Taskmaster and The Imitation Game\, and is one half of the comedy podcast Jew Talkin’ To Me? \nPhilip has most recently been gigging throughout the UK\, as well as making appearances in New York\, Scandinavia\, Europe\, The Middle East\, Dubai\, and Auckland where he headlined at The Classic. \nHe was the final record breaking act on stage as the Guinness World Record for the longest stand up gig was broken in Portsmouth\, and has rworked as a rehearsal guest on BBC’s Mock the Week. \nHaving trained as an actor at the Guildford School of Acting\, Philip has appeared in TV\, film and theatre\, including guest roles in sitcoms 'According to Bex' and 'My Family' and a run of long-running live satire 'Newsrevue' at the Canal Cafe Theatre. He has also appeared as Daddy Pig in a national theatre tour of kid's favourite Peppa Pig. \n“Philip Simon is never less than hilarious” - The Stage \n“With Philip Simon as compere comedy is guaranteed” - The Jewish Chronicle \n  \n \nWill Duggan\nEdinburgh Comedy Award Winner 2014 (Panel Prize for Funz & Gamez)\nWill Duggan started performing comedy in 2009. Since then he has established himself as a dynamic and exciting new act and a quick and witty MC. \nIn the short time he has been performing comedy Will has been in the final of many prestigious competitions including Beat the Frog World Series 2011. He was nominated for Best MC at the 2011 Nottingham Comedy Festival Awards. \nA natural either performing a set or hosting an evening\, Will puts an audience at ease with his charming\, friendly style. \n“absorbs you so completely” - Chortle \n“Watertight material and perfectly paced delivery” - Spotlight Comedy \n  \nThis show will also feature a newer act in the middle. \n  \nNote: Line-ups are subject to change in extreme\, and unavoidable\, circumstances.\nShow may contain strong language and adult themes.\n\nTimings\nDoors open: 7:30pm\nShow starts: 8pm \n\nBuy tickets:\nTickets for this show can be bought online at www.bishopaucklandtownhall.org.uk\, in person from Bishop Auckland Town Hall\, or telephone 03000 269 524.
URL:https://hilaritybites.co.uk/show/bishop-auckland-january-23rd-2026/
LOCATION:Bishop Auckland Town Hall\, Bishop Auckland Town Hall\, Market Place\, Bishop Auckland\, DL14 7NP\, United Kingdom
CATEGORIES:Bishop Auckland Town Hall,Comedy
ATTACH;FMTTYPE=image/jpeg:https://hilaritybites.co.uk/wp-content/uploads/2017/08/Micky-Kerr.jpg
END:VEVENT
END:VCALENDAR