BEGIN:VCALENDAR
VERSION:2.0
PRODID:-//Hilarity Bites - ECPv6.8.2.1//NONSGML v1.0//EN
CALSCALE:GREGORIAN
METHOD:PUBLISH
X-ORIGINAL-URL:https://hilaritybites.co.uk
X-WR-CALDESC:Events for Hilarity Bites
REFRESH-INTERVAL;VALUE=DURATION:PT1H
X-Robots-Tag:noindex
X-PUBLISHED-TTL:PT1H
BEGIN:VTIMEZONE
TZID:UTC
BEGIN:STANDARD
TZOFFSETFROM:+0000
TZOFFSETTO:+0000
TZNAME:UTC
DTSTART:20240101T000000
END:STANDARD
END:VTIMEZONE
BEGIN:VEVENT
DTSTART;TZID=UTC:20240507T193000
DTEND;TZID=UTC:20240507T223000
DTSTAMP:20260423T123648
CREATED:20240303T213530Z
LAST-MODIFIED:20240303T213530Z
UID:23634-1715110200-1715121000@hilaritybites.co.uk
SUMMARY:Ripon\, May 7th 2024
DESCRIPTION:Hilarity Bites Comedy Club feat. Michael Fabbri\, Matt Price\, and host Carl Jones\nShow details:\n \nMichael Fabbri\nMichael Fabbri quickly stamped his mark on the UK circuit appearing in the 2003 final of Channel 4’s 'So You Think You’re Funny?' and rapidly earned a reputation as one of the most promising up and coming comedians on the circuit. Michael is now regularly booked to play major comedy clubs throughout the UK and all over the world\, living up to that initial promise! \nMichael has worked as a writer for Radio and TV\, and recently had his own stand up series 'Dyslexicon' on BBC Radio 4. He has also performed several solo shows at the Edinburgh Fringe\, and performed tour support for acts as diverse as Micky Flanagan\, Lucy Porter\, and Stephen K Amos. \nMichael's comedy is affable and electric\, with material that ranges from the cerebral to the smutty and all points in between. \n“Exceptionally funny\, extremely sharp\, hugely enjoyable” - The Scotsman \n“He is an amiable and engaging storyteller and his tales from various points in his life are liberally peppered with excellent punchlines” - The List \n“Offbeat delivery and evocative\, quirky characterisations” - Fest \n  \n \nMatt Price\nMatt Price has proven himself to be consistently funny in comedy venues of all shapes and sizes\, all over the world from Penzance to Cambodia\, to a piece of ply wood on top of a former gangland criminal’s hot tub. Matt interacts with an audience in a way that makes everyone in the room feel good\, he tells jokes and he spins a great yarn. In short\, Matt is accessible\, professional and above all\, very funny. He has also gained a reputation as a very funny but generous host\, who can make a great atmosphere for the acts and the audience. \nBorn in Cornwall\, but based in London\, Matt has completed five tours of Australia\, including Perth\, Adelaide and Melbourne International comedy festivals. He's also booked for most of the major comedy clubs in the UK\, as well as numerous independent comedy clubs\, and headlined comedy clubs in South East Asia\, Scandinavia\, Turkey\, Russia\, and the Middle East. \nMatt has also provided television warm up for Channel 4 and the TLC Channel\, performed at fifteen Edinburgh Festivals\, and provided tour support for acts as diverse as Russell Kane\, Larry Dean\, and Norman Lovett \n“Criminally funny” - ★★★★ - The Scotsman \n“One of the best storytellers on the circuit” - ★★★★ - ArtsHub Australia \n“Hilarious” - ★★★★★ - Broadway Baby \n  \n \nCarl Jones\nMidlands comic Carl Jones first hit the circuit in 2011\, winning the Nottingham Comedy Festival Best Newcomer in his first handful of gigs. Since then\, he’s performed and written for the BBC’s comedy output and is a regular at some of the top comedy clubs across the UK. \nWith a growing reputation as an engaging storytelling comedian and welcoming MC who is able to play a variety of rooms\, he is a regular opener\, middle\, closer and host for a wide range of comedy clubs of all sizes across the UK. \nA huge football fan\, he’s also released two books about the beautiful game and can be heard interviewing comedy pals on his own Premier League nostalgia podcast When Football Began Again. \n“Very funny... a breezily entertaining half-hour from a likeable comic” - Chortle \n“The audience loved him from start to finish. His natural comic story-telling ability had them hanging on every word” - Hot Water Comedy \n“From the moment he came to the microphone\, he made the audience feel at home. Sharp\, quick on his feet and completely good-natured\, Carl set the audience up for a great night of comedy. Would highly recommend him as an MC for any occasion” - Stand Up at The Studio \n  \nThis show will also feature a newer act in the middle. \n  \nNote: Line-ups are subject to change in extreme\, and unavoidable\, circumstances.\nShow may contain strong language and adult themes.\n\nTimings\nDoors open: 7:30pm\nShow starts: 8pm \n\nBuy tickets:\nTickets for this show are £10 per person\, with doors opening at 7:30pm and the show starting at 8pm. Tickets can be bought from the link below\, See Tickets\, TicketMaster\, Skiddle\, or contact the venue directly.
URL:https://hilaritybites.co.uk/show/ripon-may-7th-2024/
LOCATION:Arts Hub\, Ripon\, 49a Allhallowgate\, Ripon\, North Yorkshire\, HG4 1LQ\, United Kingdom
CATEGORIES:Arts Hub Ripon,Comedy
ATTACH;FMTTYPE=image/jpeg:https://hilaritybites.co.uk/wp-content/uploads/2016/06/Michael-Fabbri.jpg
END:VEVENT
END:VCALENDAR