BEGIN:VCALENDAR
VERSION:2.0
PRODID:-//Hilarity Bites - ECPv6.8.2.1//NONSGML v1.0//EN
CALSCALE:GREGORIAN
METHOD:PUBLISH
X-ORIGINAL-URL:https://hilaritybites.co.uk
X-WR-CALDESC:Events for Hilarity Bites
REFRESH-INTERVAL;VALUE=DURATION:PT1H
X-Robots-Tag:noindex
X-PUBLISHED-TTL:PT1H
BEGIN:VTIMEZONE
TZID:UTC
BEGIN:STANDARD
TZOFFSETFROM:+0000
TZOFFSETTO:+0000
TZNAME:UTC
DTSTART:20240101T000000
END:STANDARD
END:VTIMEZONE
BEGIN:VEVENT
DTSTART;TZID=UTC:20240229T193000
DTEND;TZID=UTC:20240229T223000
DTSTAMP:20260423T180148
CREATED:20231228T162051Z
LAST-MODIFIED:20231228T162135Z
UID:23321-1709235000-1709245800@hilaritybites.co.uk
SUMMARY:Husthwaite\, February 29th 2024
DESCRIPTION:Hilarity Bites Comedy Club feat. Duncan Oakley\, Roger Monkhouse\, and host Carl Jones\nShow details:\n \nDuncan Oakley\nAward-winning comedy songwriter Duncan Oakley has been performing on the UK club and festival circuit since 1999. In that time Duncan has appeared on BBC3\, Channel 4 and BBC Radio 4 as well as having a lead role as Eddie in Beat 24's feature film Frontman (a film that won awards but sadly never achieved major release despite Oakley being brilliant in it). \nProudly childlike\, musical comedian Duncan Oakley can be playful and daft but is always infectiously funny. \nExpect big laughs from your inner oaf. \n“Leaping between stupidity and pure brilliance” - Yorkshire Evening Post \n“Oakley's routine deftly mixes the tunes with the stand-up” - City Life \n“Brilliant. A true\, funny entertainer” - BAFTA winner Dave Johns \n  \n \nRoger Monkhouse\nRoger Monkhouse is one of the most original and distinctive acts on the comedy scene. A consummate stand-up who employs a deadly combination of charm and menace to exert a masterful control over any audience. A highly original and quirky performer\, Roger’s trademark stage-prowling style and curious\, inimitable manner have established him as one of the hottest names on the comedy circuit. \nDistinguished as a comic by his eloquence and keen eye for a fine phrase\, Roger’s easy observational style is spiked by the signal flares of an accomplished gag writer. A supremely confident compere and seasoned corporate host\, Roger is happy to improvise freely with a crowd and is at great ease bantering with an audience\, but has no shortage of first class observational material in his armoury. \nAs one of the most sought after acts on the comedy circuit\, Roger headlines at all the major comedy venues and has performed extensively throughout the United Kingdom and Internationally\, most recently performing in Belgium\, The Netherlands\, South Africa\, China\, Singapore\, Tokyo and the Middle East. He has also featured on major national tours of the UK sponsored by Hooch and J2O. \nA fine topical writer and performer\, and master of sharp observational comedy\, Roger is a regular member of the prestigious and critically acclaimed ‘Cutting Edge’ team at the London Comedy Store. \n“unfailingly entertaining and skilfully able to pull punchlines\, seemingly\, out of thin air” - Chortle \n“his laconic delivery shields an engaging persona and an enquiring mind” - The Guardian \n  \n \nCarl Jones\nMidlands comic Carl Jones first hit the circuit in 2011\, winning the Nottingham Comedy Festival Best Newcomer in his first handful of gigs. Since then\, he’s performed and written for the BBC’s comedy output and is a regular at some of the top comedy clubs across the UK. \nWith a growing reputation as an engaging storytelling comedian and welcoming MC who is able to play a variety of rooms\, he is a regular opener\, middle\, closer and host for a wide range of comedy clubs of all sizes across the UK. \nA huge football fan\, he’s also released two books about the beautiful game and can be heard interviewing comedy pals on his own Premier League nostalgia podcast When Football Began Again. \n“Very funny... a breezily entertaining half-hour from a likeable comic” - Chortle \n“The audience loved him from start to finish. His natural comic story-telling ability had them hanging on every word” - Hot Water Comedy \n“From the moment he came to the microphone\, he made the audience feel at home. Sharp\, quick on his feet and completely good-natured\, Carl set the audience up for a great night of comedy. Would highly recommend him as an MC for any occasion” - Stand Up at The Studio \n  \nThis show will also feature a newer act in the middle. \n  \nNote: Line-ups are subject to change in extreme\, and unavoidable\, circumstances.\nShow may contain strong language and adult themes.\n  \n\nTimings\nDoors open: 7:30pm\nShow starts: 8pm \n\nBuy tickets:\nTickets for this show are £10 each and can be bought from the link below\, or contact the venue directly.
URL:https://hilaritybites.co.uk/show/husthwaite-february-29th-2024/
LOCATION:Husthwaite Village Hall\, The Nookin\, Husthwaite\, North Yorkshire\, YO61 4PY\, United Kingdom
CATEGORIES:Comedy,Husthwaite Village Hall
ATTACH;FMTTYPE=image/jpeg:https://hilaritybites.co.uk/wp-content/uploads/2021/11/Duncan-Oakley-2022.jpg
END:VEVENT
END:VCALENDAR