BEGIN:VCALENDAR
VERSION:2.0
PRODID:-//Hilarity Bites - ECPv6.8.2.1//NONSGML v1.0//EN
CALSCALE:GREGORIAN
METHOD:PUBLISH
X-ORIGINAL-URL:https://hilaritybites.co.uk
X-WR-CALDESC:Events for Hilarity Bites
REFRESH-INTERVAL;VALUE=DURATION:PT1H
X-Robots-Tag:noindex
X-PUBLISHED-TTL:PT1H
BEGIN:VTIMEZONE
TZID:UTC
BEGIN:STANDARD
TZOFFSETFROM:+0000
TZOFFSETTO:+0000
TZNAME:UTC
DTSTART:20240101T000000
END:STANDARD
END:VTIMEZONE
BEGIN:VEVENT
DTSTART;TZID=UTC:20240906T190000
DTEND;TZID=UTC:20240906T223000
DTSTAMP:20260423T074633
CREATED:20240609T202215Z
LAST-MODIFIED:20240609T210842Z
UID:23964-1725649200-1725661800@hilaritybites.co.uk
SUMMARY:Whitby\, September 6th 2024
DESCRIPTION:Hilarity Bites Comedy Club feat. Steve Gribbin\, Tony Cowards & host Carl Jones\nShow details:\n \nSteve Gribbin\nSteve Gribbin is a diminutive guitar-wielding satirist from Liverpool whose scabrous comedy songs and off the wall observations have made him one of the firm favourites of the comedy circuit. \nSteve’s original comedy songs combine razor sharp lyrics with tunes that put their foot in the door of your mind and refuse to leave. Firmly based in rock ‘n’ roll and refusing to pull no punches\, these are not the ‘oh so witty’ ditties of penguin-suited plink plonk piano playing posh gobs. They are that rarity – comedy songs which are actually funny. \nFor nine years Steve was the smaller one in the dynamic comedy duo Skint Video\, stalwart’s of the Edinburgh Festival\, appearing on countless television programmes such as Saturday Live\, radio such as The Mary Whitehouse Experience\, and their own show in 1992/3 Songlines (BBC Radio 1). Skint Video went their different ways in 1993\, since then Steve has been storming across the UK and Ireland as a solo artiste. \n“A comic animated by proper passion... a trenchant treat” - The Guardian \n“You can count the number of truly imaginative comic singers currently on the circuit on the fingers of one hand. One of this select band is Steve Gribbin” - Time Out \n“Satirical songs are hard to pull off successfully\, but if anyone can do it\, Steve Gribbin can. In fact\, he pulls it off with real aplomb” - The Independent \n  \n \nTony Cowards\nTony is a rapidfire gag merchant with an arsenal full of one-liners\, for laughs-per-minute he's a tough act to beat! \nHis quick wit has made him a sought after act and compere by comedy clubs and promoters across the UK and even for gigs worldwide. Something of a Twitter sensation\, Tony's jokes turn up in all sorts of places\, from greetings cards to The Times newspaper\, even if you've never heard of him there's a good chance that you'll have laughed at one of his gags. \nTony’s likable ‘everyman’ character and wide ranging humour (mostly clean) means he is comfortable in front of any audience and is regularly booked for comedy nights for the military\, universities\, sports clubs\, festivals and after-dinner work. In July 2014\, Tony placed third in the English Comedian of the Year Competition. \n“Tony Cowards as the MC skilfully whipped the full house into a state of rapture in anticipation of the evening's special guest” - Three Weeks \n“The best joke writer around” - GQ \n“The Punosaurus” - The List \n“A beaut of a one-liner merchant” - LondonisFunny.com \n  \n \nCarl Jones\nMidlands comic Carl Jones first hit the circuit in 2011\, winning the Nottingham Comedy Festival Best Newcomer in his first handful of gigs. Since then\, he’s performed and written for the BBC’s comedy output and is a regular at some of the top comedy clubs across the UK. \nWith a growing reputation as an engaging storytelling comedian and welcoming MC who is able to play a variety of rooms\, he is a regular opener\, middle\, closer and host for a wide range of comedy clubs of all sizes across the UK. \nA huge football fan\, he’s also released two books about the beautiful game and can be heard interviewing comedy pals on his own Premier League nostalgia podcast When Football Began Again. \n“Very funny... a breezily entertaining half-hour from a likeable comic” - Chortle \n“The audience loved him from start to finish. His natural comic story-telling ability had them hanging on every word” - Hot Water Comedy \n“From the moment he came to the microphone\, he made the audience feel at home. Sharp\, quick on his feet and completely good-natured\, Carl set the audience up for a great night of comedy. Would highly recommend him as an MC for any occasion” - Stand Up at The Studio \n  \nThis show will also feature a newer act in the middle. \n  \nNote: Line-ups are subject to change in extreme\, and unavoidable\, circumstances.\nShow may contain strong language and adult themes.\n\nTimings\nDoors open: 7:30pm\nShow starts: 8pm \n\nBuy tickets:\nTickets for this show are £12 each\, with doors opening at 7:30pm and the show starting at 8pm. \nTickets can be bought from the link below\, See Tickets\, TicketMaster\, Skiddle\, or contact the venue directly.
URL:https://hilaritybites.co.uk/show/whitby-september-6th-2024/
LOCATION:Coliseum Centre\, Whitby\, Coliseum Centre\, Victoria Place\, Whitby\, YO21 1EZ\, United Kingdom
CATEGORIES:Coliseum Centre Whitby,Comedy
ATTACH;FMTTYPE=image/jpeg:https://hilaritybites.co.uk/wp-content/uploads/2022/10/Steve-Gribbin-2022.jpg
END:VEVENT
END:VCALENDAR