BEGIN:VCALENDAR
VERSION:2.0
PRODID:-//Hilarity Bites - ECPv6.8.2.1//NONSGML v1.0//EN
CALSCALE:GREGORIAN
METHOD:PUBLISH
X-ORIGINAL-URL:https://hilaritybites.co.uk
X-WR-CALDESC:Events for Hilarity Bites
REFRESH-INTERVAL;VALUE=DURATION:PT1H
X-Robots-Tag:noindex
X-PUBLISHED-TTL:PT1H
BEGIN:VTIMEZONE
TZID:UTC
BEGIN:STANDARD
TZOFFSETFROM:+0000
TZOFFSETTO:+0000
TZNAME:UTC
DTSTART:20230101T000000
END:STANDARD
END:VTIMEZONE
BEGIN:VEVENT
DTSTART;TZID=UTC:20231104T193000
DTEND;TZID=UTC:20231104T223000
DTSTAMP:20260424T130346
CREATED:20230829T203052Z
LAST-MODIFIED:20231030T084820Z
UID:22871-1699126200-1699137000@hilaritybites.co.uk
SUMMARY:Darlington\, November 4th 2023
DESCRIPTION:Hilarity Bites Comedy Club feat. Brennan Reece\, Ryan Cullen\, Catherine Young & host Danny Deegan\nShow details:\nReplacing Lou Conran:\n \nBrennan Reece\nBest Newcomer (nominee)\, Edinburgh Comedy Festival 2016English Comedian of the Year 2015Best Show (nominee)\, Fringe World Australia\nAs seen on Live At The Apollo (BBC)\, Celeb Coach Trip (E4)\, and Roast Battle (Comedy Central)\, and supporting Joe Lycett on his 2022 UK Arena tour. \nBrennan is a multi award winning working class wordsmith (Edinburgh Best Newcomer Nominee and English Comedian Of The Year Winner). A stand-up\, a storyteller\, and self confessed mummy’s boy\, his boyish cheeks recently cropped up on Survival Of The Fittest (ITV)\, The Stand Up Sketch Show (ITV) Live At The Comedy Store (Comedy Central) and racking up over 6 million YouTube hits for his stint on Top Gear (BBC). \nA true Northern voice\, with family close to his heart. Your Mum is going to love him! Not like that\, you dirty little perve. \n“A powerfully entertaining\, unstoppable force” - Chortle \n“A teenage Alan Bennett” - The Skinny \n“Beautiful\, raucous and touching” - The Independent \n“Absolutely incredible” - Phoebe Waller Bridge \n  \n \nRyan Cullen\nRyan Cullen has become one of Ireland’s most talked about comedians in a very short space of time. Renowned for his near the knuckle material and depraved one-liners\, Ryan was recently runner up in Irish Comedian of The Year and has made appearances on BBC Scotland’s ‘The Comedy Underground’\, BBC NI’S ‘Late Licence’\, as well as on RTE and MTV! \nA festival favourite\, Ryan regularly graces the comedy stages at Altitude Comedy Fest\, The Vodafone Comedy Carnival\, Electric Picnic\, Longitude\, Forbidden Fruit\, Indiependence\, and Snowbombing\, Ryan is also a head performer on the Facts YouTube Channel\, boasting over 400 million views and 1.3 million subscribers\, and also the Try Channel which has over 500\,000 subscribers. \nHaving headlined clubs such as The Laughter Lounge\, The Stand\, The International Comedy Club\, The Comedy Cellar\, and The Belfast Empire - to name but a few - it won’t be long before Ryan Cullen will be giving the big names a run for their money! \n“Ryan Cullen looks unassuming... but his clever black humour had the crowd gasping in horror and giggling simultaneously!” - Comedy Scoop \n“Ryan Cullen is one of my favourite comedians. Hilarious and so dark you think 'How the f*ck did he end up like this?’” - Daniel Sloss \n  \n \nCatherine Young\nHilarity Bites New Act of the Year 2019\nWinner of the Hilarity Bites New Act of the Year 2019\, Catherine is quickly making a name for herself as one of the most exciting new acts to come out of the North-East in recent years. \nCatherine occasionally absconds from Middlesbrough and the general misery of life\, by running round the UK comedy circuit looking for anyone who will listen to her. \nFrom North East and Irish decent\, Catherine loves drinking\, dancing and telling lies. Her comedy is light-hearted\, full of mischievous stories and a warm and friendly humour that provides a short break from the stresses that life deals to us all. \n  \n  \n \nDanny Deegan\nDanny Deegan is a comedian\, writer and actor who began performing in 2003 and has since risen steadily through the ranks of some of the most prestigious comedy clubs in the UK. His tales of mischief and the characters he creates have kept audiences all over the country enthralled as he weaves in and out of the people he has met travelling. His talent and likability coupled with a confident swagger see him as one of the most popular acts in the North. \nFresh from a successful run at the Edinburgh Fringe\, where he received rave reviews\, Danny also recently performed a headline set at the Green Man festival in South Wales getting a great reception from the 400 people in the marquee and being asked to wrap up for Manchester band Doves after their headline set in front of 12\,000 people. \nOutside of live work Danny has made several TV and radio appearances. From being a guest on Radio GMR to having his own show "Afternoons with Danny Deegan" on CAT FM in Crewe. His TV credits include appearances on "Made in the North" and "The Adam and Shelley Show" to name but two. \n“His seamless interactions with the crowd demonstrate that he’s a natural-born comedian... appealing to both the young and old\, female and male” - Three Weeks \n“Charming\, witty and most importantly funny” - Metro \n“Deegan has a mature confidence in his abilities” - Chortle \n  \nNote: Line-ups are subject to change in extreme\, and unavoidable\, circumstances.\nShow may contain strong language and adult themes.\n\nTimings\nDoors open: 7:30pm\nShow starts: 8pm \n\nBuy tickets:\nTickets for this show are £12 each. Tickets can be bought from the link below\, See Tickets\, TicketMaster\, Skiddle\, or contact the venue directly.
URL:https://hilaritybites.co.uk/show/darlington-november-4th-2023/
LOCATION:The Forum\, Darlington\, The Forum\, Borough Road\, Darlington\, DL1 1SG\, United Kingdom
CATEGORIES:Comedy,The Forum Darlington
ATTACH;FMTTYPE=image/jpeg:https://hilaritybites.co.uk/wp-content/uploads/2018/12/Brennan-Reece-2018.jpg
END:VEVENT
END:VCALENDAR