BEGIN:VCALENDAR
VERSION:2.0
PRODID:-//Hilarity Bites - ECPv6.8.2.1//NONSGML v1.0//EN
CALSCALE:GREGORIAN
METHOD:PUBLISH
X-ORIGINAL-URL:https://hilaritybites.co.uk
X-WR-CALDESC:Events for Hilarity Bites
REFRESH-INTERVAL;VALUE=DURATION:PT1H
X-Robots-Tag:noindex
X-PUBLISHED-TTL:PT1H
BEGIN:VTIMEZONE
TZID:UTC
BEGIN:STANDARD
TZOFFSETFROM:+0000
TZOFFSETTO:+0000
TZNAME:UTC
DTSTART:20240101T000000
END:STANDARD
END:VTIMEZONE
BEGIN:VEVENT
DTSTART;TZID=UTC:20241005T193000
DTEND;TZID=UTC:20241005T223000
DTSTAMP:20260423T202106
CREATED:20240706T194537Z
LAST-MODIFIED:20240706T195227Z
UID:24074-1728156600-1728167400@hilaritybites.co.uk
SUMMARY:Darlington\, October 5th 2024
DESCRIPTION:Hilarity Bites Comedy Club feat. Rob Rouse\, Matt Price\, Peter Bell\, and host Andy Fury\nShow details:\n \nRob Rouse\nRob Rouse is a man who doesn't know the meaning of the word calm. Full of beans\, Rob can't slow down\, and why would he when he makes so many people laugh. Rob first made the leap into stand up comedy in the late 1990s\, touring the university circuits. In 1998 he won the prestigious 'So You Think You're Funny' competition at the Edinburgh Festival. \nAs seen on Dave's One Night Stand\, Celebrity Juice\, 8 out of 10 Cats\, The Friday Night Project\, and much more\, Rob is one of comedy’s most lively\, loveable and dynamic performers. \nPerforming a rare club show\, whilst in between tours\, expect stories of his life as a father\, his encounters with road-kill and his life as the beleaguered owner of the most spectacularly randy dog you’re ever likely to hear about... \n “He’s a man with genuinely funny bones” - Sunday Times \n“Rob Rouse is a born clown\, a latter-day Stan Laurel” - Time Out \n“Every single one of these everyday observations and shared recognitions is blown out of the mainstream by his electric-shock treatment of the material... You want to hug his brain for coming up with this stuff\, even as you want to wash his mouth out with soap for saying it” - The Herald \n  \n \nMatt Price\nMatt Price has proven himself to be consistently funny in comedy venues of all shapes and sizes\, all over the world from Penzance to Cambodia\, to a piece of ply wood on top of a former gangland criminal’s hot tub. Matt interacts with an audience in a way that makes everyone in the room feel good\, he tells jokes and he spins a great yarn. In short\, Matt is accessible\, professional and above all\, very funny. He has also gained a reputation as a very funny but generous host\, who can make a great atmosphere for the acts and the audience. \nBorn in Cornwall\, but based in London\, Matt has completed five tours of Australia\, including Perth\, Adelaide and Melbourne International comedy festivals. He's also booked for most of the major comedy clubs in the UK\, as well as numerous independent comedy clubs\, and headlined comedy clubs in South East Asia\, Scandinavia\, Turkey\, Russia\, and the Middle East. \nMatt has also provided television warm up for Channel 4 and the TLC Channel\, performed at fifteen Edinburgh Festivals\, and provided tour support for acts as diverse as Russell Kane\, Larry Dean\, and Norman Lovett \n“Criminally funny” - ★★★★ - The Scotsman \n“One of the best storytellers on the circuit” - ★★★★ - ArtsHub Australia \n“Hilarious” - ★★★★★ - Broadway Baby \n  \n \nPeter Bell\nOne of Glasgow's dark horses despite being bright orange at the top\, Peter's mix of observation\, surreal nonsense and dark humour has seen him rise from rookie to regular of the Scottish comedy scene in no time at all. \nHaving played shows all across the UK\, he now co-organises and runs two legendary comedy nights in Glasgow City centre\, and in March 2023 won the "Beat the Gong" show in Stockton. \nHis unique style and sharp wit have entertained audiences and annoyed his peers\, and led to him making the 2023 BBC New Comedy Awards shortlist. \n“Multi-talented and hilarious... an immensely funny performance dripping with confidence and self deprecation in equal measure” - The Glee Club \n  \n \nAndy Fury\nDespite starting comedy out of “sheer boredom” just a few years ago\, Andy Fury has impressed a lot of people in a short space of time with a wonderful mix of self-deprecating dark jokes and off the wall surrealism. \nWith a laidback stage presence that sometimes borders horizontal\, he’s as hard-working as he is funny and winning the Hilarity Bites New Act Of The Year 2010 title has put Andy on the path to working at many of the best clubs in the country\, wowing audiences the length and breadth of the UK. \n“An absolute genius of a comedian” - BBC \n“Brilliant... The next Pub Landlord of comedy” - Hexham Courant \n“A very funny man with a big future ahead of him” - Corby Radio \n  \nNote: Line-ups are subject to change in extreme\, and unavoidable\, circumstances.\nShow may contain strong language and adult themes.\n\nTimings\nDoors open: 7:30pm\nShow starts: 8pm \n\nBuy tickets:\nTickets for this show are £12 each. Tickets can be bought from the link below\, See Tickets\, TicketMaster\, Skiddle\, or contact the venue directly.
URL:https://hilaritybites.co.uk/show/darlington-october-5th-2024/
LOCATION:The Forum\, Darlington\, The Forum\, Borough Road\, Darlington\, DL1 1SG\, United Kingdom
CATEGORIES:Comedy,The Forum Darlington
ATTACH;FMTTYPE=image/jpeg:https://hilaritybites.co.uk/wp-content/uploads/2016/06/Rob-Rouse-2016.jpg
END:VEVENT
END:VCALENDAR