BEGIN:VCALENDAR
VERSION:2.0
PRODID:-//Hilarity Bites - ECPv6.8.2.1//NONSGML v1.0//EN
CALSCALE:GREGORIAN
METHOD:PUBLISH
X-WR-CALNAME:Hilarity Bites
X-ORIGINAL-URL:https://hilaritybites.co.uk
X-WR-CALDESC:Events for Hilarity Bites
REFRESH-INTERVAL;VALUE=DURATION:PT1H
X-Robots-Tag:noindex
X-PUBLISHED-TTL:PT1H
BEGIN:VTIMEZONE
TZID:UTC
BEGIN:STANDARD
TZOFFSETFROM:+0000
TZOFFSETTO:+0000
TZNAME:UTC
DTSTART:20250101T000000
END:STANDARD
END:VTIMEZONE
BEGIN:VEVENT
DTSTART;TZID=UTC:20250301T193000
DTEND;TZID=UTC:20250301T223000
DTSTAMP:20260423T121414
CREATED:20250104T175258Z
LAST-MODIFIED:20250104T175258Z
UID:24684-1740857400-1740868200@hilaritybites.co.uk
SUMMARY:Darlington\, March 1st 2025
DESCRIPTION:Hilarity Bites Comedy Club feat. Freddy Quinne\, Howard Walker\, Jeannie Jones\, and host Rob Mulholland\nShow details:\n \nFreddy Quinne\nCo-host of the hugely popular 'Dead Men Talking' podcast\, award-winning comedian Freddy Quinne is a regular at many of the biggest and best comedy clubs in the country where he performs his shamelessly opinionated\, no-holds-barred stand up. He is known for his frank approach and often brutal punchlines\, covering everything from topical news to universal truths. \nHis Amazon Prime comedy special Quite The Catch has had over half a million views. He also has hours of online footage from shows across the world\, with clips racking up millions of streams on Facebook and YouTube. \nIn 2014 Freddy was MC for the late show for the Big Value Show at the Edinburgh Fringe\, one of the most prestigious showcases at the festival\, and he returned to the Fringe in 2015\, where he hosted the AAA Comedy Showcase at the Pleasance Courtyard.  \nFreddy's willingness to break away from his set and involve the crowd leads for an engaging and memorable set backed up with frantic energy and raw emotion. \n“Uncompromising... a natural comic with near perfect timing” - The Skinny \n“The hilarious Freddy Quinne managed to quieten the two worst hecklers with one perfectly judged line” - eFestivals \n“Uniquely Northern observational humour” - Lancashire Evening Post \n  \n \nHoward Walker\nHirsute\, hospitable\, and h-engaging\, Howard hails from Yorkshire and proffers oodles of warmth with observations on everyday life. Comedy Cellar New Act Award winner and Hilarity Bites New Act of the Year finalist\, with captivating stories he travels the UK to charm and entertain\, and find the answer to the age old question; where can you find free parking after 6? \nAn imaginative storyteller\, with a good sense of humour\, he likes romantic walks on the beach\, dining out\, and likes to take any opportunity to pretend he's filling out an online dating profile. \n“A natural stage presence\, an instantly amenable demeanour\, inventive imagery and the best comedic use of a Belgian place name even the most ardent chuckle chaser will ever hear” - Stagefright Comedy \n“Howard Walker's oddly hilarious observations bring something different to any comedy programme” - Buzz Comedy \n“You almost felt as if you had gone over to a friend’s house and met his really witty mate that could entertain you all night with human observations of the world” - www.ladiestakeon.co.uk \n  \n \nJeannie Jones\nJeannie Jones is a well versed MC and seasoned host for independent comedy promoters all across Scotland\, and gigs at venues throughout the UK. Jeannie is the regular MC of the hugely popular Over The Lyne Comedy which brings comedy to rural communities. She is also a regular face at The Edinburgh Fringe where she hosted EdinBra (a female compilation show) several years in a row\, as well as shows at The Glasgow International Comedy Festival\, Leicester Comedy Festival and Brighton Fringe. \nJeannie recently made her TV debut on BBC Scotland’s new prime time stand-up comedy show: The Comedy Underground\, and is a writer on BBC Scotland’s Breaking The News. \n“One to watch” - Funny Women \n  \n \nRob Mulholland\nSix foot seven of pure funny\, Rob Mulholland is a bombastic\, mischievous gag-slinging rascal with a heart full of humour and gob full of shite. An established\, bullet-proof comedy pro forged in the fires of the Nothern comedy circuit who now travels the world packing big belly laughs. A regular at all the biggest comedy clubs in the UK; whether going for the kill with his playful filth-mongering and hilarious\, furious tirades against minor annoyances or holding a night together with his genial but sharp hosting skills\, he can adapt to any kind of crowd and event. \nRob is the co-host of hit podcast “Dead Men Talking”\, has written for Mock The Week\, and was seen on BBC iPlayer’s "Comedians’ Rap Battles". Rob has also won multiple awards\, including being the English Comedian of the Year joint winner\, Beat The Frog World Series Winner\, Hilarity Bites New Act of the Year Winner\, Funhouse Comedy Champion of Champions\, and SA Search For A Star Winner. His hit Edinburgh Festival show 'Popular Comedian' can be streamed now on Amazon Prime. \n“Very\, very tall and equally as talented” - Time Out \n“Great delivery and a confident swagger... A riot” - Lancashire Evening Telegraph \n“Perfect delivery... had the audience bursting into spontaneous applause” - York Press \n  \nNote: Line-ups are subject to change in extreme\, and unavoidable\, circumstances.\nShow may contain strong language and adult themes.\n\nTimings\nDoors open: 7:30pm\nShow starts: 8pm \n\nBuy tickets:\nTickets for this show are £12 each. Tickets can be bought from the link below\, See Tickets\, TicketMaster\, Skiddle\, or contact the venue directly.
URL:https://hilaritybites.co.uk/show/darlington-march-1st-2025/
LOCATION:The Forum\, Darlington\, The Forum\, Borough Road\, Darlington\, DL1 1SG\, United Kingdom
CATEGORIES:Comedy,The Forum Darlington
ATTACH;FMTTYPE=image/jpeg:https://hilaritybites.co.uk/wp-content/uploads/2016/06/Freddy-Quinne.jpg
END:VEVENT
BEGIN:VEVENT
DTSTART;TZID=UTC:20250313T193000
DTEND;TZID=UTC:20250313T223000
DTSTAMP:20260423T121414
CREATED:20241024T213051Z
LAST-MODIFIED:20241024T213051Z
UID:24480-1741894200-1741905000@hilaritybites.co.uk
SUMMARY:Darlington\, March 13th 2025
DESCRIPTION:Hilarity Bites presents Lee Kyle: Bottle It\nShow details:\n \nLee Kyle: Bottle It\nLee Kyle (“Glorious” – The Independent) has a secret. \nBut also\, he’s been throwing messages in bottles into the sea! Lots of them. He’s been asking people to reply and people have. What has this led to? Adventure? Discovery? Surprises? \nWell yes. He’s learned a lot. Join Lee\, a top class ad-libber and storytelling comedian\, as he recounts this tale while revealing so much more about himself than even he is strictly comfortable with. \nBecause Lee Kyle has a secret. \nIn his new tour show ‘Bottle It’ Lee talks about what it means to have bottle\, to throw bottles and to be bottled. \nBecause Lee Kyle has a secret. And he’s mentioned it here so now he’ll HAVE to tell you. \nComments on Lee’s previous shows from some great comedians: \n“This is a beautiful show” – Jonny Pelham \n“You have to watch Lee Kyle’s new show” – Alasdair Beckett-King \n“It’s so bloody funny” – Louise Young \n“Lovely comedy from an okay person” – Phil Ellis \n“Lee Kyle’s Disco Twix is very good” – Stuart Goldsmith \n“The most underrated comedian on the circuit” – Raul Kohli \n“You should watch this” – Jo Caulfield \n“Lee is a phenomenal comedian and this is his best show to date” – Sammy Dobson \n\nTimings\nDoors open: 7:30pm\nShow starts: 8pm \n\nBuy tickets:\nTickets for this show are £12 each. Tickets can be bought from the link below\, See Tickets\, TicketMaster\, Skiddle\, or contact the venue directly.
URL:https://hilaritybites.co.uk/show/darlington-march-13th-2025/
LOCATION:The Forum\, Darlington\, The Forum\, Borough Road\, Darlington\, DL1 1SG\, United Kingdom
CATEGORIES:Comedy,The Forum Darlington
ATTACH;FMTTYPE=image/jpeg:https://hilaritybites.co.uk/wp-content/uploads/2024/10/Lee-Kyle-2025.jpg
END:VEVENT
BEGIN:VEVENT
DTSTART;TZID=UTC:20250320T190000
DTEND;TZID=UTC:20250320T220000
DTSTAMP:20260423T121414
CREATED:20240924T101752Z
LAST-MODIFIED:20240924T101752Z
UID:24403-1742497200-1742508000@hilaritybites.co.uk
SUMMARY:Darlington\, March 20th 2025
DESCRIPTION:Hilarity Bites presents Jimmy Carr: Laughs Funny\nShow details:\n \nJimmy Carr: Laughs Funny\nIf you like fast-paced\, edgy one-liners then get ready to be happy. Jimmy Carr is going back on tour with his brand-new show ‘Jimmy Carr: Laughs Funny’. \nJimmy tells jokes\, and jokes are like magnets. \nJokes attract people\, but they can also repel. \nSome people are repelled by Jimmy’s dark brand of comedy. This show is not for them. \nBut if it’s the kind of thing you like\, then this is the kind of thing you’ll like. \n‘Jimmy Carr: Laughs Funny’ will be 90 minutes of solid jokes\, no interval. \n\nThere will be two shows a night\, starting at 7pm and 9.30pm\, why not book a table somewhere before or after and make the most of the night out. \n\nBuy tickets:\nTickets for this show can be bought from Wednesday 25th September online at www.darlingtonhippodrome.co.uk\, in person from the Darlington Hippodrome box office in the Cornmill Centre\, or telephone 01325 405405. \nTickets for this show are £35 each (+£2 levy)\, with shows starting at 7pm and 9:30pm.
URL:https://hilaritybites.co.uk/show/darlington-march-20th-2025/
LOCATION:Darlington Hippodrome\, Parkgate\, Darlington\, DL1 1RR\, United Kingdom
CATEGORIES:Comedy,Darlington Hippodrome
ATTACH;FMTTYPE=image/jpeg:https://hilaritybites.co.uk/wp-content/uploads/2024/09/Jimmy-Carr-2025.jpg
END:VEVENT
END:VCALENDAR