BEGIN:VCALENDAR
VERSION:2.0
PRODID:-//Hilarity Bites - ECPv6.8.2.1//NONSGML v1.0//EN
CALSCALE:GREGORIAN
METHOD:PUBLISH
X-WR-CALNAME:Hilarity Bites
X-ORIGINAL-URL:https://hilaritybites.co.uk
X-WR-CALDESC:Events for Hilarity Bites
REFRESH-INTERVAL;VALUE=DURATION:PT1H
X-Robots-Tag:noindex
X-PUBLISHED-TTL:PT1H
BEGIN:VTIMEZONE
TZID:UTC
BEGIN:STANDARD
TZOFFSETFROM:+0000
TZOFFSETTO:+0000
TZNAME:UTC
DTSTART:20240101T000000
END:STANDARD
END:VTIMEZONE
BEGIN:VEVENT
DTSTART;TZID=UTC:20240703T193000
DTEND;TZID=UTC:20240703T223000
DTSTAMP:20260424T022701
CREATED:20240512T120537Z
LAST-MODIFIED:20240512T120605Z
UID:23859-1720035000-1720045800@hilaritybites.co.uk
SUMMARY:Darlington\, July 3rd 2024
DESCRIPTION:Lauren Pattison & Tarot (Preview shows)\nShow details:\n \nLauren Pattison: Big Girl Pants (Preview)\nTwo time Edinburgh Comedy Award nominee Lauren Pattison is back with the beginnings of a brand new show. She’s decided she wants to come back bigger\, braver and maybe blonder … either way it’s time to put her big girl pants on. \nAs seen on Roast Battle (Comedy Central)\, Stand Up For Live Comedy (BBC1) Comedy Up Late (ABC) and as heard on the smash hit Have A Word podcast. \n“a breath of feisty fresh air” – ★★★★ – The Herald \n“slice of life storytelling with a sharp comic twist” – ★★★★ – The Times \n“pitch perfect comic timing” – British Comedy Guide \n  \n\n \nTarot: Work In Progress (Preview)\nThe best show of 2019 according to Chortle. The sixth-best show of 2022 according to The Guardian. Come watch us continue our slow descent into mediocrity. \nA work in progress from the critically-acclaimed\, nightie-clad sketch-zealots. \n“Bark-out-loud funny… the whole show is startlingly live” – ★★★★ – The Guardian \n“One of the balls-out funniest show of the Fring” – ★★★★½ – Chortle \n“Tarot will not give you nightmares\, though you might wake laughing your head off” – ★★★★ – Evening Standard \n  \n\nTimings\nDoors open: 7:30pm\nShow starts: 8pm \n\nBuy tickets:\nTickets for this show are £10 each. Tickets can be bought from the link below\, See Tickets\, TicketMaster\, Skiddle\, or contact the venue directly.
URL:https://hilaritybites.co.uk/show/darlington-july-3rd-2024/
LOCATION:The Forum\, Darlington\, The Forum\, Borough Road\, Darlington\, DL1 1SG\, United Kingdom
CATEGORIES:Comedy,The Forum Darlington
ATTACH;FMTTYPE=image/jpeg:https://hilaritybites.co.uk/wp-content/uploads/2024/05/Lauren-Pattison-2024.jpg
END:VEVENT
END:VCALENDAR