BEGIN:VCALENDAR
VERSION:2.0
PRODID:-//Hilarity Bites - ECPv6.8.2.1//NONSGML v1.0//EN
CALSCALE:GREGORIAN
METHOD:PUBLISH
X-ORIGINAL-URL:https://hilaritybites.co.uk
X-WR-CALDESC:Events for Hilarity Bites
REFRESH-INTERVAL;VALUE=DURATION:PT1H
X-Robots-Tag:noindex
X-PUBLISHED-TTL:PT1H
BEGIN:VTIMEZONE
TZID:UTC
BEGIN:STANDARD
TZOFFSETFROM:+0000
TZOFFSETTO:+0000
TZNAME:UTC
DTSTART:20240101T000000
END:STANDARD
END:VTIMEZONE
BEGIN:VEVENT
DTSTART;TZID=UTC:20240724T193000
DTEND;TZID=UTC:20240724T223000
DTSTAMP:20260424T021642
CREATED:20240623T203600Z
LAST-MODIFIED:20240623T203614Z
UID:24017-1721849400-1721860200@hilaritybites.co.uk
SUMMARY:Darlington\, July 24th 2024
DESCRIPTION:Justin Moorhouse & Alun Cochrane (Preview shows)\nShow details:\n \nJustin Moorhouse: The Greatest Performance of My Life (Work In Progress)\nNot written by AI honestly. \n“The Greatest Performance of My Life”\, a poignant exploration of comedy intertwined with the essence of life’s ups and downs. Justin’s unparalleled ability to blend side-splitting humour with touching insights offers a rare glimpse into the human condition through the lens of a comedian. \nThis performance is more than just a series of jokes; it’s a heartfelt journey through the joys\, sorrows\, and hilarity of life\, delivered with Justin’s characteristic charisma and warmth. Prepare to laugh\, reflect\, and connect deeply with every story\, making this evening an unforgettable highlight in your cultural calendar. \n“Easily my favourite comedian” – Jimmy Carr \n“Moorhouse charms the pants off the crowd” – Sunday Times \n“Simultaneously down to earth and out of this world” – The Sunday Times \n  \n\n \nAlun Cochrane: Jokes That May End Up Online (Work In Progress)\nAlun Cochrane has been performing somewhat observational\, somewhat topical\, somewhat curmudgeonly comedy for decades. He has done comedy clubs\, some television\, some radio\, and many festivals. \nNowadays eschewing the Edinburgh Fringe\, Alun instead is going to record Comedy Specials for YouTube every year\, until he has run out of jokes\, or of life. \nCome see a master of topical observational curmudgeonly comedy ascertain which jokes will one day work on tiny screens for people with even tinier attention spans. \n“Cochrane’s dour and grumpy onstage persona is allied to a real craft and creativity in his writing\, yielding results that satisfy both the comedy purists and those who simply want big belly laughs on a night out” – The Guardian \n“A master storyteller\, holding the audience before dropping an exploding but simple punchline…” – Metro \n“Alun Cochrane’s ability to make the little things in life a comedy goldmine is phenomenal” – Chortle \n  \n\nTimings\nDoors open: 7:30pm\nShow starts: 8pm \n\nBuy tickets:\nTickets for this show are £10 each. Tickets can be bought from the link below\, See Tickets\, TicketMaster\, Skiddle\, or contact the venue directly.
URL:https://hilaritybites.co.uk/show/darlington-july-24th-2024/
LOCATION:The Forum\, Darlington\, The Forum\, Borough Road\, Darlington\, DL1 1SG\, United Kingdom
CATEGORIES:Comedy,The Forum Darlington
ATTACH;FMTTYPE=image/jpeg:https://hilaritybites.co.uk/wp-content/uploads/2022/03/Justin-Moorhouse-2022.jpg
END:VEVENT
END:VCALENDAR