BEGIN:VCALENDAR
VERSION:2.0
PRODID:-//Hilarity Bites - ECPv6.8.2.1//NONSGML v1.0//EN
CALSCALE:GREGORIAN
METHOD:PUBLISH
X-ORIGINAL-URL:https://hilaritybites.co.uk
X-WR-CALDESC:Events for Hilarity Bites
REFRESH-INTERVAL;VALUE=DURATION:PT1H
X-Robots-Tag:noindex
X-PUBLISHED-TTL:PT1H
BEGIN:VTIMEZONE
TZID:UTC
BEGIN:STANDARD
TZOFFSETFROM:+0000
TZOFFSETTO:+0000
TZNAME:UTC
DTSTART:20240101T000000
END:STANDARD
END:VTIMEZONE
BEGIN:VEVENT
DTSTART;TZID=UTC:20240907T140000
DTEND;TZID=UTC:20240907T223000
DTSTAMP:20260423T232005
CREATED:20240711T205131Z
LAST-MODIFIED:20240711T205131Z
UID:24092-1725717600-1725748200@hilaritybites.co.uk
SUMMARY:Darlington\, September 7th 2024
DESCRIPTION:Last Train Home Festival – Comedy Stage\nShow details:\n \nHilarity Bites are chuffed to be back at Last Train Home Festival at The Forum on Saturday 7th September – one of our favourite days of the year! \nMore details on everything that’s happening at the festival can be found at the Last Train Home website\, but the comedy line-up is as follows: \n  \nEarly Show (2pm – 4pm): \nHost Rob Mulholland\nDon Biswas\nElaine Robertson\nSteve Gribbin \nEvening Show (5pm – 7pm): \nHost Rob Mulholland\nStephanie Laing\nJosh Sedman\nMick Ferry \nLate Show (8pm – 10pm): \nHost Rob Mulholland\nJules O’Brian\nMike Wardley\nBethany Black \n  \n\nBuy tickets:\nTickets for this show are £25 per person (plus booking fee)\, and are available to buy online from Skiddle.
URL:https://hilaritybites.co.uk/show/darlington-september-7th-2024/
LOCATION:The Forum\, Darlington\, The Forum\, Borough Road\, Darlington\, DL1 1SG\, United Kingdom
CATEGORIES:Comedy,The Forum Darlington
ATTACH;FMTTYPE=image/jpeg:https://hilaritybites.co.uk/wp-content/uploads/2021/11/Rob-Mulholland-2021.jpg
END:VEVENT
END:VCALENDAR