BEGIN:VCALENDAR
VERSION:2.0
PRODID:-//Hilarity Bites - ECPv6.8.2.1//NONSGML v1.0//EN
CALSCALE:GREGORIAN
METHOD:PUBLISH
X-ORIGINAL-URL:https://hilaritybites.co.uk
X-WR-CALDESC:Events for Hilarity Bites
REFRESH-INTERVAL;VALUE=DURATION:PT1H
X-Robots-Tag:noindex
X-PUBLISHED-TTL:PT1H
BEGIN:VTIMEZONE
TZID:UTC
BEGIN:STANDARD
TZOFFSETFROM:+0000
TZOFFSETTO:+0000
TZNAME:UTC
DTSTART:20250101T000000
END:STANDARD
END:VTIMEZONE
BEGIN:VEVENT
DTSTART;TZID=UTC:20250320T190000
DTEND;TZID=UTC:20250320T220000
DTSTAMP:20260423T141115
CREATED:20240924T101752Z
LAST-MODIFIED:20240924T101752Z
UID:24403-1742497200-1742508000@hilaritybites.co.uk
SUMMARY:Darlington\, March 20th 2025
DESCRIPTION:Hilarity Bites presents Jimmy Carr: Laughs Funny\nShow details:\n \nJimmy Carr: Laughs Funny\nIf you like fast-paced\, edgy one-liners then get ready to be happy. Jimmy Carr is going back on tour with his brand-new show ‘Jimmy Carr: Laughs Funny’. \nJimmy tells jokes\, and jokes are like magnets. \nJokes attract people\, but they can also repel. \nSome people are repelled by Jimmy’s dark brand of comedy. This show is not for them. \nBut if it’s the kind of thing you like\, then this is the kind of thing you’ll like. \n‘Jimmy Carr: Laughs Funny’ will be 90 minutes of solid jokes\, no interval. \n\nThere will be two shows a night\, starting at 7pm and 9.30pm\, why not book a table somewhere before or after and make the most of the night out. \n\nBuy tickets:\nTickets for this show can be bought from Wednesday 25th September online at www.darlingtonhippodrome.co.uk\, in person from the Darlington Hippodrome box office in the Cornmill Centre\, or telephone 01325 405405. \nTickets for this show are £35 each (+£2 levy)\, with shows starting at 7pm and 9:30pm.
URL:https://hilaritybites.co.uk/show/darlington-march-20th-2025/
LOCATION:Darlington Hippodrome\, Parkgate\, Darlington\, DL1 1RR\, United Kingdom
CATEGORIES:Comedy,Darlington Hippodrome
ATTACH;FMTTYPE=image/jpeg:https://hilaritybites.co.uk/wp-content/uploads/2024/09/Jimmy-Carr-2025.jpg
END:VEVENT
END:VCALENDAR