BEGIN:VCALENDAR
VERSION:2.0
PRODID:-//Hilarity Bites - ECPv6.8.2.1//NONSGML v1.0//EN
CALSCALE:GREGORIAN
METHOD:PUBLISH
X-ORIGINAL-URL:https://hilaritybites.co.uk
X-WR-CALDESC:Events for Hilarity Bites
REFRESH-INTERVAL;VALUE=DURATION:PT1H
X-Robots-Tag:noindex
X-PUBLISHED-TTL:PT1H
BEGIN:VTIMEZONE
TZID:UTC
BEGIN:STANDARD
TZOFFSETFROM:+0000
TZOFFSETTO:+0000
TZNAME:UTC
DTSTART:20240101T000000
END:STANDARD
END:VTIMEZONE
BEGIN:VEVENT
DTSTART;TZID=UTC:20240425T193000
DTEND;TZID=UTC:20240425T223000
DTSTAMP:20260423T064224
CREATED:20240328T215447Z
LAST-MODIFIED:20240328T215447Z
UID:23716-1714073400-1714084200@hilaritybites.co.uk
SUMMARY:Topcliffe\, April 25th 2024
DESCRIPTION:Hilarity Bites Comedy Club feat. Nathan Caton\, Peter Brush\, and host Dave Twentyman\nShow details:\n \nNathan Caton\nAs seen and heard on Live At The Apollo\, Mock The Week\, Russell Howard’s Good News\, and BBC Radio 4’s 'Can’t Tell Nathan Caton Nothing'\, Nathan Caton is one of the most exciting young comedians on the scene. Gigging since the tender age of 19\, over the last decade he has established himself both as a circuit headliner\, and a name on TV and radio. \nWithin his first few years on stage\, Nathan had picked up various accolades and coveted plaudits including the Chortle Student Comic of the Year award\, a Broadcast Hotshot award\, and written and starred in a pilot for Paramount Comedy (now Comedy Central) entitled The Nathan Caton Show. \nSince then Caton has gone from strength to strength\, wowing audiences at comedy clubs up and down the UK\, and on his numerous TV and radio appearances\, with his delightfully charming blend of personal and political comedy. \n“Funny\, clever and a pleasure to listen to” - Broadway Baby \n“A comic well worth catching any chance you can” - One4Review \n“A charming and convincing operator” - The List \n  \n \nPeter Brush\nA highly distinctive performer and deft writer of finely crafted jokes\, Peter Brush unassumingly takes the stage with his slight bespectacled frame and scruffy hair\, before consummately conquering it with an arsenal of razor sharp quirky one-liners and peerlessly original routines\, all delivered in an amusingly awkward fashion. \nPeter performs at all the major clubs across the UK\, as well as having done many of it’s biggest festivals\, he has also played shows in Switzerland\, Norway and Hungary. Formerly a BBC New Comedy Award finalist\, he has written for several BBC Radio 4 shows and was the support act for Alexei Sayle’s most recent tour. Other acts he has supported on tour include Jonathan Pie\, Jason Manford\, Fern Brady\, Arthur Smith and Paul Sinha. \n“compellingly hilarious... first-class gag writing... an original and achingly funny voice” - ★★★★½ - Chortle \n“I love Peter Brush\, what a comic” - Jason Manford \n“unique observations and connections that stand-ups crave” - The Guardian \n“He’s a great comic” - BBC Radio 4 Saturday Review \n  \n \nDave Twentyman\nAffable\, quick-witted banter merchant\, Dave Twentyman survived a childhood in St Helens by evolving rapid\, startlingly-bright patter and a smile that he somehow stole from Barry Manilow. This is a man who could teach Teflon a trick-or-two but who remains vastly more fun than your average frying-pan. What higher praise can there be? \nNo matter what your mood\, you really can't help but warm to Dave. He puts a big smile on everyone's face. His chatty\, cheeky style endears him to the toughest of crowds. Dave talks a lot about the subjects closer to home\, such as family life & friends. Its lighthearted\, positive fun\, you can't help relating to. \nA regular performer at many of the best weekend clubs in the country\, Dave has also performed at a number of music festivals over the years such as Leeds\, V Festival\, Download\, etc \n “Thoroughly impressed\, best I've seen in ages. Great warmth and style” - Dave Spikey \n“F**king Brilliant” - John Bishop \n“Really like his stuff” - Jason Manford \n  \nThis show will also feature a newer act in the middle. \n  \nNote: Line-ups are subject to change in extreme\, and unavoidable\, circumstances.\nShow may contain strong language and adult themes.\n\nTimings\nDoors open: 7:30pm\nShow starts: 8pm \n\nBuy tickets:\nTickets for this show are £10 per person if bought in advance\, or £12 on the day. Tickets can be bought from the link below\, See Tickets\, TicketMaster\, Skiddle\, or contact the venue directly.
URL:https://hilaritybites.co.uk/show/topcliffe-april-25th-2024/
LOCATION:The Angel at Topcliffe\, The Angel at Topcliffe\, Long Street\, Topcliffe\, YO7 3RW\, United Kingdom
CATEGORIES:Comedy,The Angel at Topcliffe
ATTACH;FMTTYPE=image/jpeg:https://hilaritybites.co.uk/wp-content/uploads/2024/02/Nathan-Caton-2024.jpg
END:VEVENT
END:VCALENDAR