BEGIN:VCALENDAR
VERSION:2.0
PRODID:-//Hilarity Bites - ECPv6.8.2.1//NONSGML v1.0//EN
CALSCALE:GREGORIAN
METHOD:PUBLISH
X-ORIGINAL-URL:https://hilaritybites.co.uk
X-WR-CALDESC:Events for Hilarity Bites
REFRESH-INTERVAL;VALUE=DURATION:PT1H
X-Robots-Tag:noindex
X-PUBLISHED-TTL:PT1H
BEGIN:VTIMEZONE
TZID:UTC
BEGIN:STANDARD
TZOFFSETFROM:+0000
TZOFFSETTO:+0000
TZNAME:UTC
DTSTART:20240101T000000
END:STANDARD
END:VTIMEZONE
BEGIN:VEVENT
DTSTART;TZID=UTC:20241122T193000
DTEND;TZID=UTC:20241122T223000
DTSTAMP:20260422T193358
CREATED:20240922T133151Z
LAST-MODIFIED:20240922T133151Z
UID:24400-1732303800-1732314600@hilaritybites.co.uk
SUMMARY:Horbury\, November 22nd 2024
DESCRIPTION:Hilarity Bites Comedy Club feat. Daliso Chaponda\, Sam Avery\, Al Stevenson\, and host Dave Twentyman\nShow details:\n \nDaliso Chaponda\nBritain's Got Talent finalist 2017\nDaliso shot to fame on Britain’s Got Talent and has gone on to amass over 100 million YouTube views\, write and star in his critically acclaimed Radio 4 show Citizen of Nowhere\, and appear on QI\, The Apprentice: You’re Fired\, News Quiz and The Now Show. \nDaliso began his comedy career in Canada with the acclaimed one man show ‘Feed This Black Man’. Following this\, he began honing his craft in comedy clubs across the country\, and now he regularly appears in comedy clubs and theatres across the around the world. He has been part of the Melbourne\, Edinburgh\, Singapore\, Cape Town\, and Montreal Festivals\, as well as touring the UK. \nIn addition to stand up and radio\, Daliso is also a prolific fiction writer. He has published science fiction\, murder mysteries and fantasy fiction in numerous magazines and anthologies. \n“Full of sharp one-liners and well crafted gags... a real talent to look out for” - ★★★★ - Metro \n“He is hot property” - Evening Standard \n“An expert entertainer. Gets laughs from topics other comedians shun” - The Guardian \n  \n \nSam Avery\nSam Avery wanted to be a rock star. It nearly happened. \nDespite being signed up by BMG Records at the age of 17 (he had to resign from his beloved paper round)\, and subsequent tours with Motorhead and Ice T\, the story soon took a familiar turn. Contracts were anulled\, money was stolen and before he knew it he was back at the paper shop asking for his fluorescent bag back. He had crap hair anyway. \nSubsequent jobs (including a brief stint as a stockbroker) failed to excite him the way the smell of sweat and snakebite had and it wasn't long before he turned to stand-up\, soon making the final of the Leicester Mercury Comedian of the Year competition\, and finishing runner-up in the City Life North-West Comedian of the Year competition. \nFriendly and enthusiastic\, his observational style instantly puts audiences at ease allowing him to regale them with his tales of everyday life. Sam has gained a reputation for being able to spark the dullest of rooms into life with his warm\, infectious humour and quick wit which makes him ideal as either an act or compere. \nSam is also known as The Learner Parent\, the blog that he started which has lead to a best-selling book and sold-out UK tour. \n“Quick wit and painfully funny” - Metro \n“A must” - Sunday Times \n“A gifted storyteller” - The List \n  \n \nAl Stevenson\nAl Stevenson is the quick-witted\, sharp-tongued lad of Newcastle! \nHis charm allows him to tear through audiences with rapid fire\, all whilst getting away with it through a cheeky grin. \nAlthough he is newer on the circuit\, his talents have already seen him rise to the finals of Beat The Frog World Series\, beating hundreds of acts to do so\, and to host and headline prestigious venues such as The Stand Comedy Club in Newcastle. \nHis humour has caught the eye of his fellow comics\, leading to him performing tour support spots for Mark Nelson\, Lauren Pattison\, Matt Reed\, and even international comic Kevin James Thornton! \n“Al Stevenson combines the blunt double-entendres of Julian Clary with the bored\, world-weariness of Jo Brand” - Chortle \n“Blisteringly confident and deliriously lurid crowd work” - NARC \n“Destined to be a stand up comic” - Lost Voice Guy \n  \n \nDave Twentyman\nAffable\, quick-witted banter merchant\, Dave Twentyman survived a childhood in St Helens by evolving rapid\, startlingly-bright patter and a smile that he somehow stole from Barry Manilow. This is a man who could teach Teflon a trick-or-two but who remains vastly more fun than your average frying-pan. What higher praise can there be? \nNo matter what your mood\, you really can't help but warm to Dave. He puts a big smile on everyone's face. His chatty\, cheeky style endears him to the toughest of crowds. Dave talks a lot about the subjects closer to home\, such as family life & friends. Its lighthearted\, positive fun\, you can't help relating to. \nA regular performer at many of the best weekend clubs in the country\, Dave has also performed at a number of music festivals over the years such as Leeds\, V Festival\, Download\, etc \n “Thoroughly impressed\, best I've seen in ages. Great warmth and style” - Dave Spikey \n“F**king Brilliant” - John Bishop \n“Really like his stuff” - Jason Manford \n  \nNote: Line-ups are subject to change in extreme\, and unavoidable\, circumstances.\nShow may contain strong language and adult themes.\n\nTimings\nDoors open: 7:30pm\nShow starts: 8pm \n\nBuy tickets:\nTickets for this show are £12.50 per person\, and can be bought from the link below\, See Tickets\, TicketMaster\, Skiddle\, or contact the venue directly.
URL:https://hilaritybites.co.uk/show/horbury-november-22nd-2024/
LOCATION:Cluntergate Centre\, Horbury\, The Cluntergate Centre\, Cluntergate\, Horbury\, Wakefield\, WF4 5DA\, United Kingdom
CATEGORIES:Cluntergate Centre Horbury,Comedy
ATTACH;FMTTYPE=image/jpeg:https://hilaritybites.co.uk/wp-content/uploads/2022/03/Daliso-Chaponda-2022.jpg
END:VEVENT
END:VCALENDAR