BEGIN:VCALENDAR
VERSION:2.0
PRODID:-//Hilarity Bites - ECPv6.8.2.1//NONSGML v1.0//EN
CALSCALE:GREGORIAN
METHOD:PUBLISH
X-WR-CALNAME:Hilarity Bites
X-ORIGINAL-URL:https://hilaritybites.co.uk
X-WR-CALDESC:Events for Hilarity Bites
REFRESH-INTERVAL;VALUE=DURATION:PT1H
X-Robots-Tag:noindex
X-PUBLISHED-TTL:PT1H
BEGIN:VTIMEZONE
TZID:UTC
BEGIN:STANDARD
TZOFFSETFROM:+0000
TZOFFSETTO:+0000
TZNAME:UTC
DTSTART:20260101T000000
END:STANDARD
END:VTIMEZONE
BEGIN:VEVENT
DTSTART;TZID=UTC:20260704T193000
DTEND;TZID=UTC:20260704T223000
DTSTAMP:20260421T031817
CREATED:20260420T200447Z
LAST-MODIFIED:20260420T200447Z
UID:26229-1783193400-1783204200@hilaritybites.co.uk
SUMMARY:Darlington\, July 4th 2026
DESCRIPTION:Hilarity Bites Comedy Club feat. Bethany Black\, Jon Pearson\, Lenny Sherman\, and host Carl Jones\nShow details:\n \nBethany Black\nBethany Black has been a professional stand-up comedian since 2004. Her debut show 'Beth Becomes Her' detailed the story of her being transgender\, chronicling everything from her coming out through her transition and eventually falling in love. It was nominated for Best Debut at the Leicester Comedy Festival in 2008\, eventually losing out to Sarah Millican. \nOver the course of her career Beth has performed alongside some of the biggest names in comedy\, including Alan Carr\, Sarah Millican\, Tim Minchin and Rhys Darby. \nIn late 2017 / early 2018 Beth filmed the role of Pocahantas for No Offence. Prior to which\, in 2015 she was cast as Helen in Russell T. Davies multi channel shows Cucumber\, Banana\, and Tofu\, where she was the first trans actress to play a leading role. In late 2015\, Beth played 474 in Doctor Who. \n“Her journey to Channel Four\, ‘Doctor Who’ and steadily rising star status makes for hilarious if sometimes incredulous listening” - ✭✭✭✭✭ - Three Weeks \n“Honest\, to the point\, and very\, very funny” - ✭✭✭✭ - Arts Award Voice \n“The anecdotes are pitched perfectly... very funny” - Chortle \n  \n \nJon Pearson\nJon began standup comedy in 2010\, with his first performance at Birmingham’s Highlight Comedy Club. Cut to the present and Jon has become a regular face on the circuit\, performing at prestigious clubs such as The Glee\, The Boat Show & The Comedy Store\, Jon’s career has even taken him overseas with performances in Spain\, Norway and even as far away as Wigan (it is like being on another planet). \nJon is also a familiar face on at comedy festivals across the UK having taken three solo shows to the Leicester\, Nottingham & Edinburgh festivals with the highlight of the all coming in the form of a sold out show at his home town Melton Theatre in Melton Mowbray. \nJon has also provided tour support for Darren Harriot on his UK 2018/2019 tour and Lucy Porter on her UK 2017 tour. Jon’s laid back storytelling has audiences hanging on his every word. With tales based around his own life experiences\, his anecdotes are relatable and certain to have audiences in hysterics. \n“Very tall and hugely funny” - Lucy Porter \n“Brilliant” - Shropshire Star \n“A natural ability for working an audience” - EdFringeReview.com \n  \n \nLenny Sherman\nLenny Sherman is a comedian\, actor and lovable Cockney geezer. In the world of stand-up he’s a comedy circuit veteran performing gigs since 2010 for many of the top clubs around the UK\, as well as performing abroad in countries such as France\, Greece\, and Turkey. \nLenny made his Edinburgh Fringe debut in 2018 with Make The World a Better Place\, and returned in 2019 with his follow up show Have Fun\, whilst he's also been tour support for Jerry Sadowitz and Clinton Baptiste and recently one of his stand up clips went viral notching up over a million views! \nAs an actor he’s appeared in The Stand Up Sketch Show for ITVX\, appeared alongside Ant and Dec in several series of Saturday Night Takeaway for ITV\, and in Late Night Mash for Dave. He has also performed in the Channel 4 satirical comedy show Ministry of Justice\, played Alex in BBC’s Eastenders and has appeared in several sketches for BBC Three Quickies Online. \n“Power-packed performance jammed full of gags – a real blast” - Chortle \n“Deft joke writer” - Loaded Magazine \n“Laughed my t*ts off!” - Irvine Welsh \n  \n \nCarl Jones\nMidlands comic Carl Jones first hit the circuit in 2011\, winning the Nottingham Comedy Festival Best Newcomer in his first handful of gigs. Since then\, he’s performed and written for the BBC’s comedy output and is a regular at some of the top comedy clubs across the UK. \nWith a growing reputation as an engaging storytelling comedian and welcoming MC who is able to play a variety of rooms\, he is a regular opener\, middle\, closer and host for a wide range of comedy clubs of all sizes across the UK. \nA huge football fan\, he’s also released two books about the beautiful game and can be heard interviewing comedy pals on his own Premier League nostalgia podcast When Football Began Again. \n“Very funny... a breezily entertaining half-hour from a likeable comic” - Chortle \n“The audience loved him from start to finish. His natural comic story-telling ability had them hanging on every word” - Hot Water Comedy \n“From the moment he came to the microphone\, he made the audience feel at home. Sharp\, quick on his feet and completely good-natured\, Carl set the audience up for a great night of comedy. Would highly recommend him as an MC for any occasion” - Stand Up at The Studio \n  \nNote: Line-ups are subject to change in extreme\, and unavoidable\, circumstances.\nShow may contain strong language and adult themes.\n\nTimings\nDoors open: 7:30pm\nShow starts: 8pm \n\nBuy tickets:\nTickets for this show are £12 each. Tickets can be bought from the link below\, See Tickets\, TicketMaster\, Skiddle\, or contact the venue directly.
URL:https://hilaritybites.co.uk/show/darlington-july-4th-2026/
LOCATION:The Forum\, Darlington\, The Forum\, Borough Road\, Darlington\, DL1 1SG\, United Kingdom
CATEGORIES:Comedy,The Forum Darlington
ATTACH;FMTTYPE=image/jpeg:https://hilaritybites.co.uk/wp-content/uploads/2019/06/Bethany-Black.jpg
END:VEVENT
END:VCALENDAR