BEGIN:VCALENDAR
VERSION:2.0
PRODID:-//Hilarity Bites - ECPv6.8.2.1//NONSGML v1.0//EN
CALSCALE:GREGORIAN
METHOD:PUBLISH
X-ORIGINAL-URL:https://hilaritybites.co.uk
X-WR-CALDESC:Events for Hilarity Bites
REFRESH-INTERVAL;VALUE=DURATION:PT1H
X-Robots-Tag:noindex
X-PUBLISHED-TTL:PT1H
BEGIN:VTIMEZONE
TZID:UTC
BEGIN:STANDARD
TZOFFSETFROM:+0000
TZOFFSETTO:+0000
TZNAME:UTC
DTSTART:20240101T000000
END:STANDARD
END:VTIMEZONE
BEGIN:VEVENT
DTSTART;TZID=UTC:20240418T190000
DTEND;TZID=UTC:20240418T220000
DTSTAMP:20260424T131059
CREATED:20240218T104520Z
LAST-MODIFIED:20240218T105148Z
UID:23583-1713466800-1713477600@hilaritybites.co.uk
SUMMARY:Newton Aycliffe\, April 18th 2024
DESCRIPTION:Hilarity Bitesize New Act & New Material Night\, with Dominic Woodward\, Richard Pulsford\, host Jon Pearson & support\nShow details:\n \nDominic Woodward\nDominic started comedy young and wide eyed back in 2001\, and with nearly two decades experience on the UK circuit he's a safe pair of hands. He's cheeky\, charming\, full of energy and hilarious. \nNow married with a mortgage\, Dominic weaves side-splitting stories about his life and tells belly aching jokes that hit the mark with all audiences. There’s a naughty twinkle in his eyes but his act is warm\, personal and inoffensive. \nDominic is always in demand as an act and compere. He regularly performs in comedy clubs all over the UK and overseas. \n“Effortless delivery” - The Times \n“Engaging material” - Manchester Evening News \n  \n \nRichard Pulsford\nScottish Comedian of the Year (SCOTY) runner-up\, December 2021 and winner of Leicester Comedy Festival’s UK Pun Championships 2022\, one-liner comedian Richard Pulsford is a popular act who fills his set with non-stop jokes. \nRichard is the originator/host of daily joke-writing competition #LunchPun on Twitter\, with over 2\,000 followers\, and the author of the published joke book ‘Richard Pulsford: The Punball Wizard’. He's also toured solo shows at festivals around the UK\, including seven full runs at the Edinburgh Fringe\, where he was nominated for Dave’s Top Ten Jokes of the Edinburgh Fringe in both 2019 and 2022. \n“reminiscent of a master like Milton Jones\, his (justified) confidence in his material shone through” - The Scotsman \n“A barrage of one liners... some make you want to stand and applaud the brainery that creates the connections. [Richard is] enthralling... [he] exudes confidence and charm” - ★★★★★ - Lancaster Guardian \n“His show… goes a long way to cementing his reputation… an assured performer... quick\, original and funny” - ★★★★ - Broadway Baby \n  \n \nJon Pearson\nJon began standup comedy in 2010\, with his first performance at Birmingham’s Highlight Comedy Club. Cut to the present and Jon has become a regular face on the circuit\, performing at prestigious clubs such as The Glee\, The Boat Show & The Comedy Store\, Jon’s career has even taken him overseas with performances in Spain\, Norway and even as far away as Wigan (it is like being on another planet). \nJon is also a familiar face on at comedy festivals across the UK having taken three solo shows to the Leicester\, Nottingham & Edinburgh festivals with the highlight of the all coming in the form of a sold out show at his home town Melton Theatre in Melton Mowbray. \nJon has also provided tour support for Darren Harriot on his UK 2018/2019 tour and Lucy Porter on her UK 2017 tour. Jon’s laid back storytelling has audiences hanging on his every word. With tales based around his own life experiences\, his anecdotes are relatable and certain to have audiences in hysterics. \n“Very tall and hugely funny” - Lucy Porter \n“Brilliant” - Shropshire Star \n“A natural ability for working an audience” - EdFringeReview.com \n  \nThis show will also feature support from several new acts\, and established acts performing new material. \n  \nNote: Line-ups are subject to change in extreme\, and unavoidable\, circumstances.\nShow may contain strong language and adult themes.\n\nTimings\nDoors open: 7pm\nShow starts: 7:30pm \n\nBuy tickets:\nTickets for this show are £10 per person\, with doors opening at 7pm and the show starting at 7:30pm. Tickets can be bought from the link below\, See Tickets\, TicketMaster\, Skiddle\, or contact the venue directly.
URL:https://hilaritybites.co.uk/show/newton-aycliffe-april-18th-2024/
LOCATION:Steam Machine Brewery\, Newton Aycliffe\, Steam Machine Brewing Co\, 26 Northfield Way\, Newton Aycliffe\, DL5 6UF\, United Kingdom
CATEGORIES:Comedy,Steam Machine Brewery Newton Aycliffe
ATTACH;FMTTYPE=image/jpeg:https://hilaritybites.co.uk/wp-content/uploads/2019/11/Dominic-Woodward.jpg
END:VEVENT
END:VCALENDAR