BEGIN:VCALENDAR
VERSION:2.0
PRODID:-//Hilarity Bites - ECPv6.8.2.1//NONSGML v1.0//EN
CALSCALE:GREGORIAN
METHOD:PUBLISH
X-WR-CALNAME:Hilarity Bites
X-ORIGINAL-URL:https://hilaritybites.co.uk
X-WR-CALDESC:Events for Hilarity Bites
REFRESH-INTERVAL;VALUE=DURATION:PT1H
X-Robots-Tag:noindex
X-PUBLISHED-TTL:PT1H
BEGIN:VTIMEZONE
TZID:UTC
BEGIN:STANDARD
TZOFFSETFROM:+0000
TZOFFSETTO:+0000
TZNAME:UTC
DTSTART:20230101T000000
END:STANDARD
END:VTIMEZONE
BEGIN:VEVENT
DTSTART;TZID=UTC:20231107T193000
DTEND;TZID=UTC:20231107T223000
DTSTAMP:20260426T001257
CREATED:20230829T200914Z
LAST-MODIFIED:20230927T215823Z
UID:22865-1699385400-1699396200@hilaritybites.co.uk
SUMMARY:Ripon\, November 7th 2023
DESCRIPTION:Hilarity Bites Comedy Club feat. Steve Day\, Phil Pagett\, and host Roger Monkhouse\nShow details:\n \nSteve Day\nSteve Day describes himself as Britains only deaf comedian\, and if there are any others then he hasn't heard. Actually there are a couple of others who have started since he wrote that joke\, but it's only a joke after all. \nFor the past dozen years Steve has been performing to huge laughter around the country and abroad - well\, they tell him the laughter was huge to humour him\, he doesn't know either way. \nMarried with five children (a fact nothing to do with not being able to hear the word 'No') Steve has been described as 'warm and witty' by the Scotsman and has received many other rave reviews whilst performing shows at the Edinburgh Fringe Festival. Chortle gave him five stars in 2007 for Deafy's Island Discs\, a show The Sunday Times called 'Funny and Moving'. \n“Revelatory and very funny” - The Guardian \n“Warm\, funny\, frank and thought-provoking” - The Scotsman \n“Wonderful” - Bath Chronicle \n  \n \nPhil Pagett\nPhil Pagett is a professional comedian and joke-writer from Birmingham\, described by Gary Delaney as "One of the country's best new gag writers". \nPhil has been performing since 2010\, and his act features a combination of one-liners and wry observations. In addition to live work he has written for Mock the Week and BBC Radio 4. \n“Thoroughly enjoyable” - Notts Comedy Review \n“Takes his audience on an amusingly clever ride” - Funhouse Comedy \n“One of the country’s best new gag writers” - Gary Delaney \n  \n  \nReplacing Sammy Dobson:\n \nRoger Monkhouse\nRoger Monkhouse is one of the most original and distinctive acts on the comedy scene. A consummate stand-up who employs a deadly combination of charm and menace to exert a masterful control over any audience. A highly original and quirky performer\, Roger’s trademark stage-prowling style and curious\, inimitable manner have established him as one of the hottest names on the comedy circuit. \nDistinguished as a comic by his eloquence and keen eye for a fine phrase\, Roger’s easy observational style is spiked by the signal flares of an accomplished gag writer. A supremely confident compere and seasoned corporate host\, Roger is happy to improvise freely with a crowd and is at great ease bantering with an audience\, but has no shortage of first class observational material in his armoury. \nAs one of the most sought after acts on the comedy circuit\, Roger headlines at all the major comedy venues and has performed extensively throughout the United Kingdom and Internationally\, most recently performing in Belgium\, The Netherlands\, South Africa\, China\, Singapore\, Tokyo and the Middle East. He has also featured on major national tours of the UK sponsored by Hooch and J2O. \nA fine topical writer and performer\, and master of sharp observational comedy\, Roger is a regular member of the prestigious and critically acclaimed ‘Cutting Edge’ team at the London Comedy Store. \n“unfailingly entertaining and skilfully able to pull punchlines\, seemingly\, out of thin air” - Chortle \n“his laconic delivery shields an engaging persona and an enquiring mind” - The Guardian \n  \nThis show will also feature a newer act in the middle. \n  \nNote: Line-ups are subject to change in extreme\, and unavoidable\, circumstances.\nShow may contain strong language and adult themes.\n\nTimings\nDoors open: 7:30pm\nShow starts: 8pm \n\nBuy tickets:\nTickets for this show are £10 per person\, with doors opening at 7:30pm and the show starting at 8pm. Tickets can be bought from the link below\, See Tickets\, TicketMaster\, Skiddle\, or contact the venue directly.
URL:https://hilaritybites.co.uk/show/ripon-november-7th-2023/
LOCATION:Arts Hub\, Ripon\, 49a Allhallowgate\, Ripon\, North Yorkshire\, HG4 1LQ\, United Kingdom
CATEGORIES:Arts Hub Ripon,Comedy
ATTACH;FMTTYPE=image/jpeg:https://hilaritybites.co.uk/wp-content/uploads/2018/12/Steve-Day-2018.jpg
END:VEVENT
END:VCALENDAR