BEGIN:VCALENDAR
VERSION:2.0
PRODID:-//Hilarity Bites - ECPv6.8.2.1//NONSGML v1.0//EN
CALSCALE:GREGORIAN
METHOD:PUBLISH
X-ORIGINAL-URL:https://hilaritybites.co.uk
X-WR-CALDESC:Events for Hilarity Bites
REFRESH-INTERVAL;VALUE=DURATION:PT1H
X-Robots-Tag:noindex
X-PUBLISHED-TTL:PT1H
BEGIN:VTIMEZONE
TZID:UTC
BEGIN:STANDARD
TZOFFSETFROM:+0000
TZOFFSETTO:+0000
TZNAME:UTC
DTSTART:20240101T000000
END:STANDARD
END:VTIMEZONE
BEGIN:VEVENT
DTSTART;TZID=UTC:20240903T193000
DTEND;TZID=UTC:20240903T223000
DTSTAMP:20260423T181349
CREATED:20240604T183640Z
LAST-MODIFIED:20240811T164824Z
UID:23945-1725391800-1725402600@hilaritybites.co.uk
SUMMARY:Ripon\, September 3rd 2024
DESCRIPTION:Hilarity Bites Comedy Club feat. Duncan Oakley\, Howard Walker\, Alex Mitchell\, and host Rick Molland\nShow details:\n \nDuncan Oakley\nAward-winning comedy songwriter Duncan Oakley has been performing on the UK club and festival circuit since 1999. In that time Duncan has appeared on BBC3\, Channel 4 and BBC Radio 4 as well as having a lead role as Eddie in Beat 24's feature film Frontman (a film that won awards but sadly never achieved major release despite Oakley being brilliant in it). \nProudly childlike\, musical comedian Duncan Oakley can be playful and daft but is always infectiously funny. \nExpect big laughs from your inner oaf. \n“Leaping between stupidity and pure brilliance” - Yorkshire Evening Post \n“Oakley's routine deftly mixes the tunes with the stand-up” - City Life \n“Brilliant. A true\, funny entertainer” - BAFTA winner Dave Johns \n  \n \nHoward Walker\nHirsute\, hospitable\, and h-engaging\, Howard hails from Yorkshire and proffers oodles of warmth with observations on everyday life. Comedy Cellar New Act Award winner and Hilarity Bites New Act of the Year finalist\, with captivating stories he travels the UK to charm and entertain\, and find the answer to the age old question; where can you find free parking after 6? \nAn imaginative storyteller\, with a good sense of humour\, he likes romantic walks on the beach\, dining out\, and likes to take any opportunity to pretend he's filling out an online dating profile. \n“A natural stage presence\, an instantly amenable demeanour\, inventive imagery and the best comedic use of a Belgian place name even the most ardent chuckle chaser will ever hear” - Stagefright Comedy \n“Howard Walker's oddly hilarious observations bring something different to any comedy programme” - Buzz Comedy \n“You almost felt as if you had gone over to a friend’s house and met his really witty mate that could entertain you all night with human observations of the world” - www.ladiestakeon.co.uk \n  \n \nAlex Mitchell\n2024 Britain's Got Talent finalist\nBritain’s Got Talent 2024 finalist Alex Mitchell is an autistic comic with functional neurological disorder (FND). Using self-deprecating humour - laughing at himself\, his neurodivergence\, disability\, and sexuality - to reflect on some of the most difficult subjects within his own life and wider society. \nHis debut show\, Tics Towards Puffection\, tackles his desperate obsession for perfection and being "the best version" of himself. He explores how and if he'll ever achieve this\, and how this has and continues to impact his life. Reflecting on society's perception of queer\, disabled\, and neurodiverse communities\, as well as his own perception of himself\, Mitchell creates a heartwarming\, emotional but always hilarious show. \nAlex was also won 'You Can Laugh You Know: Disabled Comedian of the Year 2023' and 'Beat The Frog Winner February 2024'. \n“funny and fearless” - Simon Cowell \n“Definitely one to watch\, very funny and unique” - Jack Gleadow \n“Tremendous” - Notts Comedy Review \n  \n \nRick Molland\nNot many Englishmen can cut it as an MC in a Scottish Comedy Club - but that's exactly what Rick Molland did every weekend of the year for years. \nAn award winning film maker and former Scottish Comedian of the Year runner-up\, having proven his comedy metal in some of the most formidable environments Scotland has to offer\, including T in the Park\, Rockness\, and The Wickerman Festivals\, Rick Molland is the former resident compère at Edinburgh's Monkey Barrel Comedy Club. \n“no-holds-barred comedy” - Edinburgh Evening News \n“perfect for the role of compere” - Three Weeks \n“ audacious” - The Scotsman \n  \nNote: Line-ups are subject to change in extreme\, and unavoidable\, circumstances.\nShow may contain strong language and adult themes.\n\nTimings\nDoors open: 7:30pm\nShow starts: 8pm \n\nBuy tickets:\nTickets for this show are £10 per person\, with doors opening at 7:30pm and the show starting at 8pm. Tickets can be bought from the link below\, See Tickets\, TicketMaster\, Skiddle\, or contact the venue directly.
URL:https://hilaritybites.co.uk/show/ripon-september-3rd-2024/
LOCATION:Arts Hub\, Ripon\, 49a Allhallowgate\, Ripon\, North Yorkshire\, HG4 1LQ\, United Kingdom
CATEGORIES:Arts Hub Ripon,Comedy
ATTACH;FMTTYPE=image/jpeg:https://hilaritybites.co.uk/wp-content/uploads/2024/02/Duncan-Oakley-2024.jpg
END:VEVENT
END:VCALENDAR