BEGIN:VCALENDAR
VERSION:2.0
PRODID:-//Hilarity Bites - ECPv6.8.2.1//NONSGML v1.0//EN
CALSCALE:GREGORIAN
METHOD:PUBLISH
X-ORIGINAL-URL:https://hilaritybites.co.uk
X-WR-CALDESC:Events for Hilarity Bites
REFRESH-INTERVAL;VALUE=DURATION:PT1H
X-Robots-Tag:noindex
X-PUBLISHED-TTL:PT1H
BEGIN:VTIMEZONE
TZID:UTC
BEGIN:STANDARD
TZOFFSETFROM:+0000
TZOFFSETTO:+0000
TZNAME:UTC
DTSTART:20250101T000000
END:STANDARD
END:VTIMEZONE
BEGIN:VEVENT
DTSTART;TZID=UTC:20250805T193000
DTEND;TZID=UTC:20250805T223000
DTSTAMP:20260422T233358
CREATED:20250608T113221Z
LAST-MODIFIED:20250608T113221Z
UID:25290-1754422200-1754433000@hilaritybites.co.uk
SUMMARY:Ripon\, August 5th 2025
DESCRIPTION:Hilarity Bites Comedy Club feat. Eddy Brimson\, Seeta Wrightson\, and host Sully O’Sullivan\nShow details:\n \nEddy Brimson\nSince turning to comedy in 1999\, Eddy Brimson has well and truly established himself on the live circuit and is regarded by some as one of the leading headline comics in British comedy and the world. His career has even taken him from Dundee to Dubai! \nTo say Eddy has a colourful past is something of an understatement. A self-confessed former football hooligan before turning his hands to better use as a writer and comedian\, Eddy has written a host of amusing anecdotal books\, penned and hosted a top three selling video ‘Teargas and Tantrums’\, and is also a regular “talking head’ for numerous radio and TV shows on subjects as diverse as football\, dodgy builders and sexy baldness. \nHe’s appeared on television in many different guises from Hari Krishna in both Smith & Jones and Heartburn Hotel\, to hard-nosed Villain in Eastenders\, where he turned over Frank Butchers car lot! Other appearances include Absolutely Fabulous\, The Thin Blue Line and Hale & Pace\, The Bill\, Silent Witness\, Casualty\, Between The Lines and the HBO movie The Infiltrator where he played a leading gang member. \nEddy is also a regular radio contributor to shows on BBC Radio 5 and Talksport and also a prolific writer\, having penned seven best-selling books. With sales topping 160\,000\, Eddy has built himself a cult following among British and European football fans. In short\, this is one gifted and hilarious performer. \n“The crowd loved him” - The Guardian \n“Quite simply brilliant” - Sky \n“Engaging and Compelling\, Brimson doesn’t f*@k about” - Three Weeks \n  \n \nSeeta Wrightson\n2025 Female Pilot Club Winner and BBC New Comedy Awards semi-finalist\, Seeta Wrightson is a Bradford-born comedian known for her sharp wit and engaging stories. Wrightson’s work often draws on her dual Asian and British heritage. \nFrom humble (AKA very skint) beginnings growing up in Bradford\, Seeta has wandered through life wondering where exactly she fits and has had a hell of an adventure figuring it out. And it is a never-ending stream of ridiculousness that provides the fodder for her comedy. \n“She has jokes as fierce as her outfits. Love her” - Kiri Pritchard-McLean \n  \n  \n \nSully O'Sullivan\nSully O'Sullivan has been declared a highlight of the New Zealand International Comedy Festival by The NZ Herald\, a highlight of the Glasgow International Comedy Festival by The Scotsman\, featured on Australian TV’s The Comedy Channel\, hosted a sellout standup tour of Croatia\, won Canada’s annual Improvaganza Tournament\, and completed 2 UK national tours supporting cult Heavy Metal Comic Steve Hughes. \nFirst stepping onto a standup stage in June 1998\, Sully's talent gained instant recognition as he won his first national standup award less than 12 months later. 9 years on he’s featured in four seasons of New Zealand’s award winning TV standup showcase 'Pulp Comedy'\, been nominated for the NZ Comedy Industry's supreme award by the NZ Comedy Trust\, and nominated by his fellow performers for the title of NZ's Best MC. \n“Amazing” - NME \n“A blast of hilarity” - Manchester Evening News \n“A wicked sense of humour” - BBC \n  \nThis show will also feature a newer act in the middle. \n  \nNote: Line-ups are subject to change in extreme\, and unavoidable\, circumstances.\nShow may contain strong language and adult themes.\n\nTimings\nDoors open: 7:30pm\nShow starts: 8pm \n\nBuy tickets:\nTickets for this show are £10 per person\, with doors opening at 7:30pm and the show starting at 8pm. Tickets can be bought from the link below\, See Tickets\, TicketMaster\, Skiddle\, or contact the venue directly.
URL:https://hilaritybites.co.uk/show/ripon-august-5th-2025/
LOCATION:Arts Hub\, Ripon\, 49a Allhallowgate\, Ripon\, North Yorkshire\, HG4 1LQ\, United Kingdom
CATEGORIES:Arts Hub Ripon,Comedy
ATTACH;FMTTYPE=image/jpeg:https://hilaritybites.co.uk/wp-content/uploads/2018/12/Eddy-Brimson-2022.jpg
END:VEVENT
END:VCALENDAR