BEGIN:VCALENDAR
VERSION:2.0
PRODID:-//Hilarity Bites - ECPv6.8.2.1//NONSGML v1.0//EN
CALSCALE:GREGORIAN
METHOD:PUBLISH
X-ORIGINAL-URL:https://hilaritybites.co.uk
X-WR-CALDESC:Events for Hilarity Bites
REFRESH-INTERVAL;VALUE=DURATION:PT1H
X-Robots-Tag:noindex
X-PUBLISHED-TTL:PT1H
BEGIN:VTIMEZONE
TZID:UTC
BEGIN:STANDARD
TZOFFSETFROM:+0000
TZOFFSETTO:+0000
TZNAME:UTC
DTSTART:20250101T000000
END:STANDARD
END:VTIMEZONE
BEGIN:VEVENT
DTSTART;TZID=UTC:20251202T193000
DTEND;TZID=UTC:20251202T223000
DTSTAMP:20260422T171449
CREATED:20250930T191920Z
LAST-MODIFIED:20250930T191920Z
UID:25647-1764703800-1764714600@hilaritybites.co.uk
SUMMARY:Ripon\, December 2nd 2025
DESCRIPTION:Hilarity Bites Comedy Club feat. Rob Rouse\, Peter Brush\, and host Sully O’Sullivan\nShow details:\n \nRob Rouse\nRob Rouse is a man who doesn't know the meaning of the word calm. Full of beans\, Rob can't slow down\, and why would he when he makes so many people laugh. Rob first made the leap into stand up comedy in the late 1990s\, touring the university circuits. In 1998 he won the prestigious 'So You Think You're Funny' competition at the Edinburgh Festival. \nAs seen on Dave's One Night Stand\, Celebrity Juice\, 8 out of 10 Cats\, The Friday Night Project\, and much more\, Rob is one of comedy’s most lively\, loveable and dynamic performers. \nPerforming a rare club show\, whilst in between tours\, expect stories of his life as a father\, his encounters with road-kill and his life as the beleaguered owner of the most spectacularly randy dog you’re ever likely to hear about... \n “He’s a man with genuinely funny bones” - Sunday Times \n“Rob Rouse is a born clown\, a latter-day Stan Laurel” - Time Out \n“Every single one of these everyday observations and shared recognitions is blown out of the mainstream by his electric-shock treatment of the material... You want to hug his brain for coming up with this stuff\, even as you want to wash his mouth out with soap for saying it” - The Herald \n  \n \nPeter Brush\nA highly distinctive performer and deft writer of finely crafted jokes\, Peter Brush unassumingly takes the stage with his slight bespectacled frame and scruffy hair\, before consummately conquering it with an arsenal of razor sharp quirky one-liners and peerlessly original routines\, all delivered in an amusingly awkward fashion. \nPeter performs at all the major clubs across the UK\, as well as having done many of it’s biggest festivals\, he has also played shows in Switzerland\, Norway and Hungary. Formerly a BBC New Comedy Award finalist\, he has written for several BBC Radio 4 shows and was the support act for Alexei Sayle’s most recent tour. Other acts he has supported on tour include Jonathan Pie\, Jason Manford\, Fern Brady\, Arthur Smith and Paul Sinha. \n“compellingly hilarious... first-class gag writing... an original and achingly funny voice” - ★★★★½ - Chortle \n“I love Peter Brush\, what a comic” - Jason Manford \n“unique observations and connections that stand-ups crave” - The Guardian \n“He’s a great comic” - BBC Radio 4 Saturday Review \n  \n \nSully O'Sullivan\nSully O'Sullivan has been declared a highlight of the New Zealand International Comedy Festival by The NZ Herald\, a highlight of the Glasgow International Comedy Festival by The Scotsman\, featured on Australian TV’s The Comedy Channel\, hosted a sellout standup tour of Croatia\, won Canada’s annual Improvaganza Tournament\, and completed 2 UK national tours supporting cult Heavy Metal Comic Steve Hughes. \nFirst stepping onto a standup stage in June 1998\, Sully's talent gained instant recognition as he won his first national standup award less than 12 months later. 9 years on he’s featured in four seasons of New Zealand’s award winning TV standup showcase 'Pulp Comedy'\, been nominated for the NZ Comedy Industry's supreme award by the NZ Comedy Trust\, and nominated by his fellow performers for the title of NZ's Best MC. \n“Amazing” - NME \n“A blast of hilarity” - Manchester Evening News \n“A wicked sense of humour” - BBC \n  \nThis show will also feature a newer act in the middle. \n  \nNote: Line-ups are subject to change in extreme\, and unavoidable\, circumstances.\nShow may contain strong language and adult themes.\n\nTimings\nDoors open: 7:30pm\nShow starts: 8pm \n\nBuy tickets:\nTickets for this show are £10 per person\, with doors opening at 7:30pm and the show starting at 8pm. Tickets can be bought from the link below\, See Tickets\, TicketMaster\, Skiddle\, or contact the venue directly.
URL:https://hilaritybites.co.uk/show/ripon-december-2nd-2025/
LOCATION:Arts Hub\, Ripon\, 49a Allhallowgate\, Ripon\, North Yorkshire\, HG4 1LQ\, United Kingdom
CATEGORIES:Arts Hub Ripon,Comedy
ATTACH;FMTTYPE=image/jpeg:https://hilaritybites.co.uk/wp-content/uploads/2016/06/Rob-Rouse-2016.jpg
END:VEVENT
END:VCALENDAR