BEGIN:VCALENDAR
VERSION:2.0
PRODID:-//Hilarity Bites - ECPv6.8.2.1//NONSGML v1.0//EN
CALSCALE:GREGORIAN
METHOD:PUBLISH
X-ORIGINAL-URL:https://hilaritybites.co.uk
X-WR-CALDESC:Events for Hilarity Bites
REFRESH-INTERVAL;VALUE=DURATION:PT1H
X-Robots-Tag:noindex
X-PUBLISHED-TTL:PT1H
BEGIN:VTIMEZONE
TZID:UTC
BEGIN:STANDARD
TZOFFSETFROM:+0000
TZOFFSETTO:+0000
TZNAME:UTC
DTSTART:20240101T000000
END:STANDARD
END:VTIMEZONE
BEGIN:VEVENT
DTSTART;TZID=UTC:20240206T193000
DTEND;TZID=UTC:20240206T223000
DTSTAMP:20260425T212241
CREATED:20231210T141716Z
LAST-MODIFIED:20240206T092550Z
UID:23271-1707247800-1707258600@hilaritybites.co.uk
SUMMARY:Ripon\, February 6th 2024
DESCRIPTION:Hilarity Bites Comedy Club feat. Bethany Black\, Sian Davies\, and host Sully O’Sullivan\nShow details:\nReplacing Joe McTernan:\n \nBethany Black\nBethany Black has been a professional stand-up comedian since 2004. Her debut show 'Beth Becomes Her' detailed the story of her being transgender\, chronicling everything from her coming out through her transition and eventually falling in love. It was nominated for Best Debut at the Leicester Comedy Festival in 2008\, eventually losing out to Sarah Millican. \nOver the course of her career Beth has performed alongside some of the biggest names in comedy\, including Alan Carr\, Sarah Millican\, Tim Minchin and Rhys Darby. \nIn late 2017 / early 2018 Beth filmed the role of Pocahantas for No Offence. Prior to which\, in 2015 she was cast as Helen in Russell T. Davies multi channel shows Cucumber\, Banana\, and Tofu\, where she was the first trans actress to play a leading role. In late 2015\, Beth played 474 in Doctor Who. \n“Her journey to Channel Four\, ‘Doctor Who’ and steadily rising star status makes for hilarious if sometimes incredulous listening” - ✭✭✭✭✭ - Three Weeks \n“Honest\, to the point\, and very\, very funny” - ✭✭✭✭ - Arts Award Voice \n“The anecdotes are pitched perfectly... very funny” - Chortle \n  \n \nSian Davies\nSian Davies is a stand up comedian\, MC\, presenter\, and comedy writer based in the north west of England. \nShe won the Hilarity Bites New Act of the Year competition in 2018\, and was a finalist in Nando’s New Comedian and Harrogate Theatre Comedian of the Year competitions in 2017. She was also a northern finalist of the Funny Women stage award 2018\, and selected to take part in the prestigious Circuit Breakers showcase at the Leicester Comedy Festival. \nSian took two compilation shows to the 2018 Edinburgh Fringe which were both well recieved and an unprecedented success. Comedy Queers\, a late night LGBTQIA+ showcase which sold out almost every night of the festival and Best in Class\, a crowd funded profit sharing show featuring working class comedians which attracted huge media attention and earned several 4 star reviews. \nAway from stand-up\, Sian has written for 'Newsjack' on BBC Radio 4 Extra\, and had sketches featured on 'And Then She Said A Funny Thing' live performance podcast. \n“Excellent compere” - The Scotsman \n“Sharp and focused... fantastic ability as a comedian and compere” - ★★★★ - Backstage on the Fringe \n“Warm hearted and engaging comedy” - ★★★★ - Deadline News \n  \n \nSully O'Sullivan\nSully O'Sullivan has been declared a highlight of the New Zealand International Comedy Festival by The NZ Herald\, a highlight of the Glasgow International Comedy Festival by The Scotsman\, featured on Australian TV’s The Comedy Channel\, hosted a sellout standup tour of Croatia\, won Canada’s annual Improvaganza Tournament\, and completed 2 UK national tours supporting cult Heavy Metal Comic Steve Hughes. \nFirst stepping onto a standup stage in June 1998\, Sully's talent gained instant recognition as he won his first national standup award less than 12 months later. 9 years on he’s featured in four seasons of New Zealand’s award winning TV standup showcase 'Pulp Comedy'\, been nominated for the NZ Comedy Industry's supreme award by the NZ Comedy Trust\, and nominated by his fellow performers for the title of NZ's Best MC. \n“Amazing” - NME \n“A blast of hilarity” - Manchester Evening News \n“A wicked sense of humour” - BBC \n  \nThis show will also feature a newer act in the middle. \n  \nNote: Line-ups are subject to change in extreme\, and unavoidable\, circumstances.\nShow may contain strong language and adult themes.\n\nTimings\nDoors open: 7:30pm\nShow starts: 8pm \n\nBuy tickets:\nTickets for this show are £10 per person\, with doors opening at 7:30pm and the show starting at 8pm. Tickets can be bought from the link below\, See Tickets\, TicketMaster\, Skiddle\, or contact the venue directly.
URL:https://hilaritybites.co.uk/show/ripon-february-6th-2024/
LOCATION:Arts Hub\, Ripon\, 49a Allhallowgate\, Ripon\, North Yorkshire\, HG4 1LQ\, United Kingdom
CATEGORIES:Arts Hub Ripon,Comedy
ATTACH;FMTTYPE=image/jpeg:https://hilaritybites.co.uk/wp-content/uploads/2019/06/Bethany-Black.jpg
END:VEVENT
END:VCALENDAR