BEGIN:VCALENDAR
VERSION:2.0
PRODID:-//Hilarity Bites - ECPv6.8.2.1//NONSGML v1.0//EN
CALSCALE:GREGORIAN
METHOD:PUBLISH
X-ORIGINAL-URL:https://hilaritybites.co.uk
X-WR-CALDESC:Events for Hilarity Bites
REFRESH-INTERVAL;VALUE=DURATION:PT1H
X-Robots-Tag:noindex
X-PUBLISHED-TTL:PT1H
BEGIN:VTIMEZONE
TZID:UTC
BEGIN:STANDARD
TZOFFSETFROM:+0000
TZOFFSETTO:+0000
TZNAME:UTC
DTSTART:20240101T000000
END:STANDARD
END:VTIMEZONE
BEGIN:VEVENT
DTSTART;TZID=UTC:20241203T193000
DTEND;TZID=UTC:20241203T223000
DTSTAMP:20260423T150421
CREATED:20240718T190858Z
LAST-MODIFIED:20240718T190858Z
UID:24116-1733254200-1733265000@hilaritybites.co.uk
SUMMARY:Ripon\, December 3rd 2024
DESCRIPTION:Hilarity Bites Comedy Club feat. Patrick Monahan\, Ant Dewson\, and host Lee Kyle\nShow details:\n \nPatrick Monahan\nAudience favourite Patrick Monahan blends a high energy comedy style with hilarious and engaging topical and observational material. Known for working a room\, Patrick is adored by his audiences with whom he makes an effortless connection! \nPat has performed all over the world\, including Dubai\, Australia\, New York\, Norway\, and almost every town and city in Britain. A regular at festivals around the world\, and a successful solo touring act in the UK\, Pat was recently named the hardest working comedian in the UK by website Ents24. \nIn addition to his live work\, Patrick has recorded four solo comedy specials\, released online and on DVD\, whilst he was also the winner of two ITV competition series\, Take the Mike and Show Me the Funny. \nAs seen on The One Show (BBC)\, Fake Reaction (ITV)\, Celebrity Squares (ITV)\, and BBC Asian Network Comedy. \n“There isn't a comic quite like him” - ★★★★ - TheNewCurrent.com \n“Possesses the rare ability to be hilarious without being outrageous" - ★★★★★ - Three Weeks \n“Patrick is a Fringe legend and it's easy to see why" - ★★★★ - Daily Mirror \n“Patrick Monahan is a great comic" - ★★★★ - Broadway Baby \n  \n \nAnt Dewson\nAnt Dewson performs at some of the top comedy clubs in the country\, from The Stand in Edinburgh to Up The Creek and Angel in London\, He’s shared the stage with some great comedians including Mickey Flanagan\, Lee Mack and Noel Fielding. He’s also shared the stage with some right shockers\, all of whom he is too polite to name here. \nAnt is a regular on BBC Radio London and was the co-host of Carpet Martin’s Comedy Market on Riverside Radio. He also writes comedy for shows on BBC Radio 4 and Sky One. \nAfter a recent Hilarity Bites show in Ripon\, a member of the audience messaged him to say\, “you even made my teenage daughter laugh which she hasn’t done since she hit puberty.” \n“Genuinely funny... very clever... filthy” - Three Weeks \n“Highlight of the night” -  Tom Robinson\, BBC 6Music  \n“A musical comedy feast” - ★★★★ - The Skinny \n  \n \nLee Kyle\nIn his never ending quest not to have a proper job\, Lee Kyle spent time as part of an all male Spice Girls tribute act before spending a decade as a professional wrestler. \nManaging the difficult trick of being both odd and relatable\, he did a show at the Edinburgh Fringe in 2013 that he heard was well received but he doesn't read reviews because his psyche is too fragile to handle them so he isn't totally sure what they said. \nArmed with props and a rapid gag rate he cuts a confident\, if off-beat figure on stage. His jokes veer between the clever and the silly and deliver more than their fair share of belly laughs. \n“Had everyone on their feet - Sublimely ridiculous” - The Northern Echo \n“A brilliant performance.. Pure genius!” - NARC Magazine \n“Quirky and original - the highlight of the night” - Giggle Beats \n  \nThis show will also feature a newer act in the middle. \n  \nNote: Line-ups are subject to change in extreme\, and unavoidable\, circumstances.\nShow may contain strong language and adult themes.\n\nTimings\nDoors open: 7:30pm\nShow starts: 8pm \n\nBuy tickets:\nTickets for this show are £10 per person\, with doors opening at 7:30pm and the show starting at 8pm. Tickets can be bought from the link below\, See Tickets\, TicketMaster\, Skiddle\, or contact the venue directly.
URL:https://hilaritybites.co.uk/show/ripon-december-3rd-2024/
LOCATION:Arts Hub\, Ripon\, 49a Allhallowgate\, Ripon\, North Yorkshire\, HG4 1LQ\, United Kingdom
CATEGORIES:Arts Hub Ripon,Comedy
ATTACH;FMTTYPE=image/jpeg:https://hilaritybites.co.uk/wp-content/uploads/2018/10/Patrick-Monahan-2019.jpg
END:VEVENT
END:VCALENDAR