BEGIN:VCALENDAR
VERSION:2.0
PRODID:-//Hilarity Bites - ECPv6.8.2.1//NONSGML v1.0//EN
CALSCALE:GREGORIAN
METHOD:PUBLISH
X-WR-CALNAME:Hilarity Bites
X-ORIGINAL-URL:https://hilaritybites.co.uk
X-WR-CALDESC:Events for Hilarity Bites
REFRESH-INTERVAL;VALUE=DURATION:PT1H
X-Robots-Tag:noindex
X-PUBLISHED-TTL:PT1H
BEGIN:VTIMEZONE
TZID:UTC
BEGIN:STANDARD
TZOFFSETFROM:+0000
TZOFFSETTO:+0000
TZNAME:UTC
DTSTART:20190101T000000
END:STANDARD
END:VTIMEZONE
BEGIN:VEVENT
DTSTART;TZID=UTC:20190803T193000
DTEND;TZID=UTC:20190803T223000
DTSTAMP:20260425T163310
CREATED:20181211T212210Z
LAST-MODIFIED:20190801T154617Z
UID:9697-1564860600-1564871400@hilaritybites.co.uk
SUMMARY:Darlington\, August 3rd 2019
DESCRIPTION:Hilarity Bites Comedy Club feat. Craig Murray\, Scott Bennett\, and host Ross Brierley\nShow details:\n \nCraig Murray\nFamiliar to millions as the face of PlusNet Broadband\, and hailing from Dewsbury\, West Yorkshire (a town otherwise famous for international terrorists\, fake kidnaps and 'Britain's Best Market')\, charming northerner Craig is currently one of the hottest talents on the comedy circuit. \nCraig cut his comedy teeth as resident compere at award-winning London club The Funny Side... of Covent Garden sharing a stage with some of the very best comedy acts in the business including Harry Hill\, Stewart Lee and even Hollywood legend Robin Williams. He rapidly became a master of the compere's art; able to turn any crowd from a lacklustre mob into a clapping\, cheering\, delirious audience ready to laugh all night. \nAn instant crowd pleaser with a charismatic\, mock-confrontational style\, Craig is now a highly sought-after act and compere\, performing all over the UK. \n“...a great line in Northern humour” - Spoonfed \n“Craig Murray knows his comedy roots... his material was well presented [and] recognisably funny” - Chortle \n“Bloody funny” - Jo Brand \n  \nReplacing Robert White:\n \nScott Bennett\nAs seen on Live at the ApolloBest show Nominee Leicester Comedy Festival 2019Amused Moose Edinburgh Comedy Award Nominee\nStar of lock-down hit Stand-Up From The Shed\, Scott Bennett is a multi-award winning act\, and one of the most popular headliners currently performing in the UK. Delivering wry observations on the absurdity of modern living\, his sharply-written routines\, drawn from real-life experiences have been delighting audiences across the country. \nIn 2018 and 2019 Scott was tipped as one of the "ones to watch" by respected industry online magazine\, Chortle\, following a series of highly rated solo shows\, award nominations\, and a high-profile tour support slot with TV's Rob Brydon. \nAs well as working as a succesful stand up comic in his own right\, Scott has written for high profile acts including Jason Manford\, is a writer for The Chris Ramsey show for Comedy Central and has written for the News Quiz on BBC Radio 4. \nScott has also appeared on BBC's Live a the Apollo\, Radio 4’s The News Quiz\, The Now Show\, The Likely Dads and Elephant in the Room with Sarah Millican\, The Summer Festival with Daliso Chaponda\, The Comedy Club with Arthur Smith\, and Knock Knock with Helen Lederer. He also featured on the BBC One show\, Live from The Edinburgh Fringe. \n“Fabulous turns of phrase and pungent expressions\, superb character creations” - Chortle \n“Great material\, great delivery\, a very funny man” - Rob Brydon \n“Brilliantly funny\, a joy to watch” - Chris Ramsey \n  \n \nRoss Brierley\nRoss Brierley is an award-winning comedian\, chat show host and MC hailing from Leeds. A regular on the northern circuit since 2012\, he was a finalist in several new act competitions and winner of the Hot Water Comedy Club New Comedian competition in 2014. His high energy\, imaginative style has been winning over audiences ever since. \nHis debut solo hour ‘Accumulator’ played to sold out crowds at the Edinburgh Fringe in 2018\, and he co-created the cult hit 'The Not So Late Show with Ross and Josh' and the viral sensation 'UK Garage Horse Racing'. \n“A natural on the mic” - The Scotsman \n“Slickly delivered\, remarkably assured” - Wee Review \n“Oozing with personality\, surreal and humorous” - EdFestMag \n  \nThis show will also feature a newer act in the middle. \n  \n\nBuy tickets:
URL:https://hilaritybites.co.uk/show/darlington-august-3rd-2019/
LOCATION:The Forum\, Darlington\, The Forum\, Borough Road\, Darlington\, DL1 1SG\, United Kingdom
CATEGORIES:Comedy,The Forum Darlington
ATTACH;FMTTYPE=image/jpeg:https://hilaritybites.co.uk/wp-content/uploads/2019/05/Scott-Bennett-2019.jpg
END:VEVENT
END:VCALENDAR