BEGIN:VCALENDAR
VERSION:2.0
PRODID:-//Hilarity Bites - ECPv6.8.2.1//NONSGML v1.0//EN
CALSCALE:GREGORIAN
METHOD:PUBLISH
X-ORIGINAL-URL:https://hilaritybites.co.uk
X-WR-CALDESC:Events for Hilarity Bites
REFRESH-INTERVAL;VALUE=DURATION:PT1H
X-Robots-Tag:noindex
X-PUBLISHED-TTL:PT1H
BEGIN:VTIMEZONE
TZID:UTC
BEGIN:STANDARD
TZOFFSETFROM:+0000
TZOFFSETTO:+0000
TZNAME:UTC
DTSTART:20230101T000000
END:STANDARD
END:VTIMEZONE
BEGIN:VEVENT
DTSTART;TZID=UTC:20230209T190000
DTEND;TZID=UTC:20230209T220000
DTSTAMP:20260425T025910
CREATED:20230108T142002Z
LAST-MODIFIED:20230109T213404Z
UID:22056-1675969200-1675980000@hilaritybites.co.uk
SUMMARY:Hartlepool\, February 9th 2023
DESCRIPTION:Hilarity Bitesize New Act & New Material Night\, with Danny Posthill\, Sam Serrano\, host Rick Molland & support\nShow details:\n \nDanny Posthill\nBritain's Got Talent finalist Danny Posthill’s career began at the young age of 16\, making people laugh with hilarious impressions at his school talent show. Since then\, comedy became Danny’s passion. \nSkilled with a versatile act that caters for all audiences\, Danny offers unbeatable stand up and a range of impressions such as Billy Connolly\, Jimmy Carr\, and Lee Evans\, to guarantee an unforgettable night of laughter. \nDanny has performed all around the world\, from the Mediterranean to South America\, and is gaining recognition on the UK circuit as one of the most promising British comedians. \n“Impressionist Danny Posthill brings a bevy of other characters with him including Billy Connolly\, David Beckham\, Gary Barlow\, Michael McIntyre\, John Bishop\, Alan Carr – and is funny in his own right too” - Richard Batson\, EDP24 \n“Effortless performer of the highest quality” - Joke Club Comedy Clubs \n“What a talented comedian” - Tim Vine \n  \n \nSam Serrano\nSam Serrano is a gender fluid\, dyspraxic comedian who has been taking the circuit by storm. A regular in clubs across the UK\, Sam’s unique trademark style is dark and self-deprecating in equal measure and has seen them become a favourite with bookers. \nIt has also seen Sam provide tour support for Brennan Reece and perform an incredible five solo shows at Hot Water Comedy Club\, Nottingham Comedy Festival\, and Leicester Comedy Festival. \nIn a short space of time since starting out\, Sam was awarded second place in the prestigious Great Yorkshire Fringe Comedian of the Year Competition in 2018\, followed by runner-up in the LGBT Comedian of the Year 2019\, and was a finalist in the Leicester Square New Comedian of the Year in the same year. \n“killer lines... a lot going for them\, expect to see more” - Chortle \n“puts the X in X Factor” - York Press \n“Laugh-out-loud funny” - Yorkshire Post \n  \n \nRick Molland\nNot many Englishmen can cut it as an MC in a Scottish Comedy Club - but that's exactly what Rick Molland did every weekend of the year for years. \nAn award winning film maker and former Scottish Comedian of the Year runner-up\, having proven his comedy metal in some of the most formidable environments Scotland has to offer\, including T in the Park\, Rockness\, and The Wickerman Festivals\, Rick Molland is the former resident compère at Edinburgh's Monkey Barrel Comedy Club. \n“no-holds-barred comedy” - Edinburgh Evening News \n“perfect for the role of compere” - Three Weeks \n“ audacious” - The Scotsman \n  \nThis show will also feature support from several new acts\, and established acts performing new material. \n  \nNote: Line-ups are subject to change in extreme\, and unavoidable\, circumstances.\nShow may contain strong language and adult themes.\n\nTimings\nDoors open: 7pm\nShow starts: 7:30pm \n\nBuy tickets:\nTickets for this show are £10 per person\, with doors opening at 7pm and the show starting at 7:30pm. Tickets can be bought from the link below\, See Tickets\, TicketMaster\, Skiddle\, WeGotTickets\, or contact the venue directly.
URL:https://hilaritybites.co.uk/show/hartlepool-february-9th-2023/
LOCATION:Hops & Cheese\, Hartlepool\, 9-11 Tower Street\, Hartlepool\, TS24 7HH\, United Kingdom
CATEGORIES:Comedy,Hops & Cheese Hartlepool
ATTACH;FMTTYPE=image/jpeg:https://hilaritybites.co.uk/wp-content/uploads/2022/03/Danny-Posthill-2022.jpg
END:VEVENT
END:VCALENDAR