BEGIN:VCALENDAR
VERSION:2.0
PRODID:-//Hilarity Bites - ECPv6.8.2.1//NONSGML v1.0//EN
CALSCALE:GREGORIAN
METHOD:PUBLISH
X-WR-CALNAME:Hilarity Bites
X-ORIGINAL-URL:https://hilaritybites.co.uk
X-WR-CALDESC:Events for Hilarity Bites
REFRESH-INTERVAL;VALUE=DURATION:PT1H
X-Robots-Tag:noindex
X-PUBLISHED-TTL:PT1H
BEGIN:VTIMEZONE
TZID:UTC
BEGIN:STANDARD
TZOFFSETFROM:+0000
TZOFFSETTO:+0000
TZNAME:UTC
DTSTART:20220101T000000
END:STANDARD
END:VTIMEZONE
BEGIN:VEVENT
DTSTART;TZID=UTC:20220903T140000
DTEND;TZID=UTC:20220903T223000
DTSTAMP:20260425T130111
CREATED:20181211T212210Z
LAST-MODIFIED:20220811T155954Z
UID:21516-1662213600-1662244200@hilaritybites.co.uk
SUMMARY:Darlington\, September 3rd 2022
DESCRIPTION:Last Train Home Festival – Comedy Stage\nShow details:\n \nHilarity Bites are pleased as punch to be programming the comedy stage once more at Last Train Home Festival at The Forum on Saturday 3rd September. \nMore details on everything that’s happening at the festival can be found at the Last Train Home website\, but the comedy line-up is as follows: \n  \nEarly Show (2pm – 4pm): \nHost Rob Mulholland\nRachel Jackson\nSam Serrano\nPete Otway \nEvening Show (5pm – 7pm): \nHost Rob Mulholland\nAnja Atkinson\nJack Fox\nDave Johns \nLate Show (8pm – 10pm): \nHost Andy Fury\nCatherine Young\nBryan James\nDuncan Oakley \n  \n\nBuy tickets:\nTickets for this show are £15 per person (plus booking fee)\, and are available to buy online from Skiddle.
URL:https://hilaritybites.co.uk/show/darlington-september-3rd-2022/
LOCATION:The Forum\, Darlington\, The Forum\, Borough Road\, Darlington\, DL1 1SG\, United Kingdom
CATEGORIES:Comedy,The Forum Darlington
ATTACH;FMTTYPE=image/jpeg:https://hilaritybites.co.uk/wp-content/uploads/2021/11/Duncan-Oakley-2022.jpg
END:VEVENT
END:VCALENDAR