BEGIN:VCALENDAR
VERSION:2.0
PRODID:-//Hilarity Bites - ECPv6.8.2.1//NONSGML v1.0//EN
CALSCALE:GREGORIAN
METHOD:PUBLISH
X-WR-CALNAME:Hilarity Bites
X-ORIGINAL-URL:https://hilaritybites.co.uk
X-WR-CALDESC:Events for Hilarity Bites
REFRESH-INTERVAL;VALUE=DURATION:PT1H
X-Robots-Tag:noindex
X-PUBLISHED-TTL:PT1H
BEGIN:VTIMEZONE
TZID:UTC
BEGIN:STANDARD
TZOFFSETFROM:+0000
TZOFFSETTO:+0000
TZNAME:UTC
DTSTART:20250101T000000
END:STANDARD
END:VTIMEZONE
BEGIN:VEVENT
DTSTART;TZID=UTC:20250314T193000
DTEND;TZID=UTC:20250314T223000
DTSTAMP:20260423T040829
CREATED:20241024T212724Z
LAST-MODIFIED:20250109T190343Z
UID:24478-1741980600-1741991400@hilaritybites.co.uk
SUMMARY:Whitby\, March 14th 2025
DESCRIPTION:Hilarity Bites presents Lee Kyle: Bottle It\nShow details:\n \nLee Kyle: Bottle It\nLee Kyle (“Glorious” – The Independent) has a secret. \nBut also\, he’s been throwing messages in bottles into the sea! Lots of them. He’s been asking people to reply and people have. What has this led to? Adventure? Discovery? Surprises? \nWell yes. He’s learned a lot. Join Lee\, a top class ad-libber and storytelling comedian\, as he recounts this tale while revealing so much more about himself than even he is strictly comfortable with. \nBecause Lee Kyle has a secret. \nIn his new tour show ‘Bottle It’ Lee talks about what it means to have bottle\, to throw bottles and to be bottled. \nBecause Lee Kyle has a secret. And he’s mentioned it here so now he’ll HAVE to tell you. \nComments on Lee’s previous shows from some great comedians: \n“This is a beautiful show” – Jonny Pelham \n“You have to watch Lee Kyle’s new show” – Alasdair Beckett-King \n“It’s so bloody funny” – Louise Young \n“Lovely comedy from an okay person” – Phil Ellis \n“Lee Kyle’s Disco Twix is very good” – Stuart Goldsmith \n“The most underrated comedian on the circuit” – Raul Kohli \n“You should watch this” – Jo Caulfield \n“Lee is a phenomenal comedian and this is his best show to date” – Sammy Dobson \n\nBuy tickets:\nTickets for this show are £12 in advance\, or £14 on the door\, with doors opening at 7:30pm and the show starting at 8pm. \nTickets can be bought from the link below\, See Tickets\, TicketMaster\, Skiddle\, or contact the venue directly.
URL:https://hilaritybites.co.uk/show/whitby-march-14th-2025/
LOCATION:Coliseum Centre\, Whitby\, Coliseum Centre\, Victoria Place\, Whitby\, YO21 1EZ\, United Kingdom
CATEGORIES:Coliseum Centre Whitby,Comedy
ATTACH;FMTTYPE=image/jpeg:https://hilaritybites.co.uk/wp-content/uploads/2024/10/Lee-Kyle-2025.jpg
END:VEVENT
END:VCALENDAR